BEGIN:VCALENDAR
VERSION:2.0
PRODID:-//https://www.takethedate.it///NONSGML kigkonsult.se iCalcreator 2.10.15//
METHOD:PUBLISH
BEGIN:VEVENT
UID:20260422T024839CEST-67579llaK2@https://www.takethedate.it/
DTSTAMP:20260422T004839Z
DESCRIPTION:In programma a Roma il 24 e il 25 novembre una serie di incontr
 i in cui verranno illustrati i principali componenti della finanza pubblic
 a statale. A conclusione dei due giorni di workshop è previsto un momento 
 di discussione sul confronto tra società civile e istituzioni.\nDa bilanci
  locali a quelli dello stato. Il percorso di apertura della finanza pubbli
 ca – avviato con i seminari sui bilanci locali – arriva a toccare la dimen
 sione statale. Il seminario organizzato da Sbilanciamoci e in programma a 
 Roma il 24 e il 25 novembre intende fornire gli strumenti per capire la co
 mposizione del bilancio dello stato e la legge di bilancio\, i vincoli e l
 e manovre della finanza pubblica. E arrivare così a capire in che modo ven
 gono usate le tasse dei cittadini e le risorse pubbliche.\nLa brochure di 
 presentazione specifica: «Il seminario si propone di fornire le competenze
  di base per confrontarsi con un tema complesso e cruciale come quello del
  bilancio dello Stato\, dando conto delle sue procedure\, delle sue norme 
 di riferimento e dei suoi vincoli\, ricostruendo la mappa dei vari attori 
 istituzionali coinvolti nel suo ciclo di vita\, illustrando struttura e co
 ntenuti dei suoi principali dispositivi legislativi: dal documento di econ
 omia e finanza alla nota di aggiornamento\, dal documento programmatico di
  bilancio alla legge di bilancio. Una particolare attenzione ricadrà propr
 io sulla legge di bilancio\, cardine della programmazione economico-finanz
 iaria dello Stato e snodo centrale del dibattito pubblico e politico sulle
  scelte di bilancio: una specifica sessione laboratoriale verrà dedicata a
 lla nuova legge di bilancio 2018\, presentata ed esaminata “in tempo reale
 ” negli stessi giorni in cui sarà discussa in parlamento in vista della su
 a approvazione».\nOpenpolis si occupa da tempo di apertura e trasparenza d
 ella finanza pubblica\, in particolare con il progetto openbilanci e i sem
 inari sulla lettura dei bilanci comunali. In questa occasione l’associazio
 ne parteciperà alla tavola rotonda a conclusione dei lavori\, che ospiterà
  «un confronto\, aperto alle istanze e alle sollecitazioni dei partecipant
 i\, tra rappresentanti della società civile\, da un lato\, e delle istituz
 ioni\, dall’altro. In particolare\, saranno discussi in chiave critica e p
 ropositiva gli aspetti cruciali dell’apertura e della partecipazione\, del
 la trasparenza e del controllo pubblico sul processo e i dati di bilancio 
 dello stato\, con una specifica attenzione alla legge di bilancio».\nPer a
 pprofondire:\n\nIl programma completo del seminario sul bilancio statale\n
  https://www.takethedate.it/Eventi/833-sbilanciamo-i-conti-pubblici.html
DTSTART:20171124T080000Z
DTEND:20171125T170000Z
LOCATION: ()
SUMMARY:Sbilanciamo i conti pubblici
URL:https://www.takethedate.it/Eventi/833-sbilanciamo-i-conti-pubblici.html
END:VEVENT
END:VCALENDAR
