BEGIN:VCALENDAR
VERSION:2.0
PRODID:-//https://www.takethedate.it///NONSGML kigkonsult.se iCalcreator 2.10.15//
METHOD:PUBLISH
BEGIN:VEVENT
UID:20260423T115031CEST-25975KFwUj@https://www.takethedate.it/
DTSTAMP:20260423T095031Z
DESCRIPTION:L'evoluzione digitale della distribuzione elettricaAvezzano\, 1
 1 luglio 2018 ore 14-18 https://www.takethedate.it/Eventi/7079-levoluzione
 -digitale-della-distribuzione-elettrica.html
DTSTART:20180711T120000Z
DTEND:20180711T160000Z
LOCATION:LFoundry Avezzano (Via Pacinotti\, Avezzano)
SUMMARY:L'evoluzione digitale della distribuzione elettrica
URL:https://www.takethedate.it/Eventi/7079-levoluzione-digitale-della-distr
 ibuzione-elettrica.html
END:VEVENT
END:VCALENDAR
