BEGIN:VCALENDAR
VERSION:2.0
PRODID:-//https://www.takethedate.it///NONSGML kigkonsult.se iCalcreator 2.10.15//
METHOD:PUBLISH
BEGIN:VEVENT
UID:20260419T221512CEST-9084rk9HlX@https://www.takethedate.it/
DTSTAMP:20260419T201512Z
DESCRIPTION: \n \nIl Corso\, che si terrà dal 6 al 13 novembre 2017 a Roma\
 , rappresenta il secondo modulo del percorso formativo in Interventi Assis
 titi con gli Animali (IAA)\, specificamente dedicato alla formazione del “
 Responsabile di Progetto” e del “Referente di Intervento” dell’équipe mult
 idisciplinare di lavoro per gli interventi di Terapia Assistita con gli An
 imali (TAA) e/o di Educazione Assistita con gli Animali (EAA). Il Corso si
  inserisce nell’ambito dell’attività formativa dell’Istituto Superiore di 
 Sanità\, come sancito all’interno dell’Accordo tra il Governo\, le Regioni
  e le Province autonome di Trento e di Bolzano sul documento recante “Line
 e Guida Nazionali per gli IAA” del 25 marzo 2015.\n  https://www.taketheda
 te.it/Eventi/566-responsabili-di-progetto-e-referenti-di-interventi-taa-ea
 a-6-13-novembre.html
DTSTART:20171106T073000Z
DTEND:20171113T170000Z
LOCATION: ()
SUMMARY:Responsabili di Progetto e Referenti di Interventi TAA/EAA 6 - 13 n
 ovembre
URL:https://www.takethedate.it/Eventi/566-responsabili-di-progetto-e-refere
 nti-di-interventi-taa-eaa-6-13-novembre.html
END:VEVENT
END:VCALENDAR
