BEGIN:VCALENDAR
VERSION:2.0
PRODID:-//https://www.takethedate.it///NONSGML kigkonsult.se iCalcreator 2.10.15//
METHOD:PUBLISH
BEGIN:VEVENT
UID:20260424T155942CEST-4127uhAvBP@https://www.takethedate.it/
DTSTAMP:20260424T135942Z
DESCRIPTION:\n\nUn incontro che pone al centro il legno come materia capace
  di generare valore e orientare traiettorie.\n\n\n\n\nIl legno è una mater
 ia infinita.Attraversa i cicli\, cambia forma e continua a generare valore
 .Nel Salone d’Onore di Triennale Milano il 14 maggio dalle 9:30 Rilegno to
 rna con un incontro dedicato alle prospettive del legno e alle visioni fut
 ure della sua economia circolare\, scopri il programma completo.Questi son
 o alcuni dei temi che attraverseremo nella giornata:• I numeri della produ
 zione e del riciclo del legno in Italia• I dati della ricerca SDA Bocconi 
 su sostenibilità del packaging ed economia circolante• Il punto di vista d
 elle imprese che utilizzano gli imballaggi in legno sulla sostenibilità• G
 li scenari concreti sul futuro• Il legno tra storia e cultura• Il ruolo de
 l design nella trasformazione delle risorseOltre a questi temi\, assistere
 mo alla sfida live Rilegno–MasterWood: giovani progettisti si mettono alla
  prova nella progettazione e realizzazione di uno sgabello in legno di ric
 iclo\, sotto gli occhi del pubblico.Un’opportunità per confrontarsi su dat
 i\, modelli e visioni che stanno già orientando le scelte di filiera.\n\n 
 https://www.takethedate.it/Eventi/52580-il-valore-del-legno-come-leconomia
 -circolare-disegna-il-futuro.html
DTSTART:20260514T073000Z
DTEND:20260514T113000Z
LOCATION:Milano (Milano)
SUMMARY:Il valore del legno - Come l'economia circolare disegna il futuro
URL:https://www.takethedate.it/Eventi/52580-il-valore-del-legno-come-lecono
 mia-circolare-disegna-il-futuro.html
END:VEVENT
END:VCALENDAR
