BEGIN:VCALENDAR
VERSION:2.0
PRODID:-//https://www.takethedate.it///NONSGML kigkonsult.se iCalcreator 2.10.15//
METHOD:PUBLISH
BEGIN:VEVENT
UID:20260425T155222CEST-6975Rm6hBO@https://www.takethedate.it/
DTSTAMP:20260425T135222Z
DESCRIPTION:ANCI Lombardia è lieta di invitarvi all’evento “La rete dei con
 siglieri locali dell’UE: sfide ed opportunità”\, che si terrà lunedì 27 ap
 rile 2026\, dalle ore 10:00 alle ore 17:30\, presso la Sala Conferenze di 
 ANCI Lombardia (Via Rovello 2\, Milano).\nL’incontro è dedicato a presenta
 re il primo network europeo di eletti locali e regionali\, con un focus su
  governance\, azioni e servizi dedicati ai membri\, nonché sul ruolo dei c
 onsiglieri sui territori e sulle modalità per mettere in rete tutti gli at
 tori e i partner coinvolti.\nLa giornata rappresenta un’importante occasio
 ne di confronto sulle opportunità offerte dai programmi europei\, sugli st
 rumenti di supporto ai Comuni e sulle reti attive a livello regionale e na
 zionale\, con un focus dedicato alle politiche culturali. A partire dalle 
 ore 15:00\, è prevista una sessione laboratoriale dedicata unicamente alla
  rete dei consiglieri locali dell’UE.\nIscrizione al seguente link: La ret
 e dei consiglieri locali dell'UE-sfide ed opportunità | EventiComuni \n  h
 ttps://www.takethedate.it/Eventi/52577-la-rete-dei-consiglieri-locali-dell
 ue-sfide-ed-opportunita.html
DTSTART:20260427T080000Z
DTEND:20260427T160000Z
LOCATION:Milano (Milano)
SUMMARY:La rete dei consiglieri locali dell’UE: sfide ed opportunità
URL:https://www.takethedate.it/Eventi/52577-la-rete-dei-consiglieri-locali-
 dellue-sfide-ed-opportunita.html
END:VEVENT
END:VCALENDAR
