BEGIN:VCALENDAR
VERSION:2.0
PRODID:-//https://www.takethedate.it///NONSGML kigkonsult.se iCalcreator 2.10.15//
METHOD:PUBLISH
BEGIN:VEVENT
UID:20260424T154846CEST-8426l3Cxtr@https://www.takethedate.it/
DTSTAMP:20260424T134846Z
DESCRIPTION:Venerdì 24 aprile\, a partire dalle ore 15.00\, il Salone delle
  Fontane di Roma ospiterà una grande manifestazione promossa da Forza Ital
 ia\, dedicata al 50° anniversario del Partito Popolare Europeo e alle prin
 cipali sfide che attendono l’Europa. Un appuntamento di alto profilo polit
 ico e programmatico\, che intende celebrare mezzo secolo della più grande 
 famiglia politica europea e\, al tempo stesso\, rilanciarne la missione: d
 ifendere la libertà\, affermare la centralità della persona\, rafforzare l
 ’Unione europea come orizzonte di pace\, stabilità e prosperità e garantir
 e una leadership forte e autorevole\, capace di affrontare le grandi sfide
  comuni.\nL'evento riunirà esponenti delle istituzioni italiane ed europee
 \, rappresentanti del mondo politico\, sociale\, produttivo e giovanile\, 
 in un confronto articolato sui valori\, sulle prospettive e sulle riforme 
 necessarie per costruire l’Europa di domani.\nSarà anche l’occasione per r
 ipercorrere il cammino del popolarismo europeo\, dalle radici dei padri fo
 ndatori come De Gasperi\, Adenauer e Schuman\, fino al contributo offerto\
 , negli anni\, da Forza Italia\, per la crescita e il rafforzamento del PP
 E\, nella convinzione che i valori popolari continuino a rappresentare un 
 punto di riferimento essenziale per le nuove generazioni di italiani ed eu
 ropei.\nL’apertura dei lavori è prevista alle ore 15.30 con gli interventi
  di Fulvio Martusciello\, capo delegazione di Forza Italia al Parlamento E
 uropeo\; di Enrico Costa\, presidente dei deputati di Forza Italia e di Ro
 berta Metsola\, presidente del Parlamento Europeo.\nLe conclusioni saranno
  affidate\, alle 18.30\, a Dolors Montserrat e a Manfred Weber\, rispettiv
 amente segretario generale e presidente del Partito Popolare Europeo\, e a
 d Antonio Tajani\, vicepresidente del PPE e segretario nazionale di Forza 
 Italia.\nIl programma si articolerà in cinque sessioni tematiche.\nIl prim
 o panel. 'L’Italia al centro dell’Europa: un’azione forte e coordinata nel
  PPE” – sarà introdotto e moderato dall’on. Deborah Bergamini\, vicesegret
 ario nazionale e responsabile Esteri del movimento azzurro.\nSeguirà il co
 nfronto su “Valori e nuovi modelli sociali: il ruolo del PPE nell’Europa c
 he cambia”\, moderato dal sen. Maurizio Gasparri\, presidente della Commis
 sione Esteri e Difesa del Senato.\nSarà dato ampio spazio anche ai temi de
 lla libertà\, dei diritti e della solidarietà internazionale con il panel 
 “Il PPE a fianco dei popoli oppressi e delle comunità perseguitate”\, intr
 odotto e moderato dalla presidente dei senatori azzurri\, Stefania Craxi.
 \nA seguire\, il dibattito su “Il futuro dei Popolari: visione e riforme p
 er l’Europa di domani”\, introdotto da Ludovico Seppilli\, vicepresidente 
 dei Giovani del Partito Popolare Europeo\, con la partecipazione di Simone
  Leoni\, segretario nazionale di Forza Italia Giovani.\nL’ultima sessione\
 , “Crescita europea: innovazione\, capitale umano e competitività per il f
 uturo”\, sarà moderata da Letizia Moratti\, eurodeputata e presidente dell
 a Consulta FI\, e vedrà\, tra gli altri\, l’intervento di Massimiliano Sal
 ini\, vicepresidente del gruppo del PPE al Parlamento Europeo.\nL’appuntam
 ento del 24 aprile si propone come un momento di forte valore politico e i
 deale per ribadire la centralità dell’Italia nel progetto europeo e raffor
 zare il contributo del PPE alla costruzione di un’Europa più forte\, coesa
  e vicina ai cittadini\, un’Europa fedele ai suoi valori fondativi\, consa
 pevole della propria storia e determinata a trasmettere alle generazioni f
 uture un patrimonio di libertà\, responsabilità e buon governo.\n  https:/
 /www.takethedate.it/Eventi/52567-liberi-forti-popolari.html
DTSTART:20260424T130000Z
DTEND:20260424T160000Z
LOCATION:Roma (Roma)
SUMMARY:Liberi\, Forti\, Popolari
URL:https://www.takethedate.it/Eventi/52567-liberi-forti-popolari.html
END:VEVENT
END:VCALENDAR
