BEGIN:VCALENDAR
VERSION:2.0
PRODID:-//https://www.takethedate.it///NONSGML kigkonsult.se iCalcreator 2.10.15//
METHOD:PUBLISH
BEGIN:VEVENT
UID:20260424T155748CEST-6563W0uvzp@https://www.takethedate.it/
DTSTAMP:20260424T135748Z
DESCRIPTION:Il Consiglio dei Ministri è convocato a Palazzo Chigi domani\, 
 venerdì 24 aprile 2026\, al termine del voto finale dell'A.C. 2886\, per l
 'esame del seguente ordine del giorno:\n\nSCHEMA DI DECRETO-LEGGE: Disposi
 zioni urgenti in materia di rimpatri volontari assistiti (PRESIDENZA - INT
 ERNO-ECONOMIA E FINANZE).\n https://www.takethedate.it/Eventi/52565-consig
 lio-dei-ministri-n-171-del-24-aprile-2026.html
DTSTART;VALUE=DATE:20260424
LOCATION:Roma (Roma)
SUMMARY:Consiglio dei Ministri n. 171 del 24 aprile 2026
URL:https://www.takethedate.it/Eventi/52565-consiglio-dei-ministri-n-171-de
 l-24-aprile-2026.html
END:VEVENT
END:VCALENDAR
