BEGIN:VCALENDAR
VERSION:2.0
PRODID:-//https://www.takethedate.it///NONSGML kigkonsult.se iCalcreator 2.10.15//
METHOD:PUBLISH
BEGIN:VEVENT
UID:20260425T155032CEST-4247OhrHIv@https://www.takethedate.it/
DTSTAMP:20260425T135032Z
DESCRIPTION:\n\n\n\n\n\n\n\n\n\n\n\n\nAlle ore 10\, presso la Sala della Re
 gina di Montecitorio si svolge il convegno 'Il Porto che verrà: sfide e ne
 cessità per la Sicurezza sul Lavoro'. Messaggio del Presidente della Camer
 a\, Lorenzo Fontana. \n\n\n\n\n\n\n\n\n\n\n\n\n\n\n\n\n\n\n https://www.ta
 kethedate.it/Eventi/52556-il-porto-che-verra-sfide-e-necessita-per-la-sicu
 rezza-sul-lavoro-messaggio-di-fontana.html
DTSTART:20260427T080000Z
DTEND:20260427T110000Z
LOCATION:Roma (Roma)
SUMMARY:Il Porto che verrà: sfide e necessità per la Sicurezza sul Lavoro -
  Messaggio di Fontana
URL:https://www.takethedate.it/Eventi/52556-il-porto-che-verra-sfide-e-nece
 ssita-per-la-sicurezza-sul-lavoro-messaggio-di-fontana.html
END:VEVENT
END:VCALENDAR
