BEGIN:VCALENDAR
VERSION:2.0
PRODID:-//https://www.takethedate.it///NONSGML kigkonsult.se iCalcreator 2.10.15//
METHOD:PUBLISH
BEGIN:VEVENT
UID:20260424T155922CEST-1578NVCchX@https://www.takethedate.it/
DTSTAMP:20260424T135922Z
DESCRIPTION:\n\nLa Madonna del Buon Consiglio: tra fede\, storia e memoria 
 albanese. Su iniziativa dell'Ambasciata d'Albania presso la Santa Sede\n\n
 \n  https://www.takethedate.it/Eventi/52555-la-madonna-del-buon-consiglio-
 tra-fede-storia-e-memoria-albanese.html
DTSTART:20260424T140000Z
DTEND:20260424T160000Z
LOCATION:Roma (Roma)
SUMMARY:La Madonna del Buon Consiglio: tra fede\, storia e memoria albanese
URL:https://www.takethedate.it/Eventi/52555-la-madonna-del-buon-consiglio-t
 ra-fede-storia-e-memoria-albanese.html
END:VEVENT
END:VCALENDAR
