BEGIN:VCALENDAR
VERSION:2.0
PRODID:-//https://www.takethedate.it///NONSGML kigkonsult.se iCalcreator 2.10.15//
METHOD:PUBLISH
BEGIN:VEVENT
UID:20260424T155435CEST-54298M4GVX@https://www.takethedate.it/
DTSTAMP:20260424T135435Z
DESCRIPTION:Questa lezione in sincrono fa parte del MOOC | Come diventare R
 PCT in 5 'semplici' passi + 1\, un percorso pensato per accompagnare chi r
 icopre il ruolo di Responsabile della Prevenzione della Corruzione e della
  Trasparenza\, o si appresta a ricoprirlo\, nella costruzione consapevole 
 della propria identità professionale e nella progettazione di un sistema d
 i prevenzione realmente efficace.\nLa lezione fa parte dello Step 3 Il sal
 to con l'asta: valutare i rischi per l'integrità pubblica e sarà dedicata 
 alla valutazione dei rischi d'integrità pubblica. Partendo dalla restituzi
 one della Terza Esercitazione\, saranno presentati casi reali utili a trad
 urre in pratica principi e strumenti\, orientando il comportamento nelle s
 ituazioni professionali. L’obiettivo è valorizzare la capacità di lettura 
 critica del contesto\, rafforzando un approccio consapevole e operativo al
 la prevenzione della corruzione nella Pubblica Amministrazione.\nDocente:A
 ndrea Ferrarini\, Esperto in etica pubblica e prevenzione della corruzione
 \, Spazioetico \nCome iscriversiLa lezione è gratuita e aperta a tutti e f
 a parte del corso formativo di Basic Knowledge MOOC | Come diventare RPCT 
 in 5 ‘semplici’ passi + 1\nPer iscriverti e partecipare:\n\naccedi alla Sc
 uola IFEL\n\nvai alla pagina del corso MOOC | Come diventare RPCT in 5 ‘se
 mplici’ passi + 1 e clicca su Iscriviti\n\n\n\nSe non sei in possesso dell
 e credenziali di accesso\, effettua prima la registrazione dal Sito IFEL e
  poi procedi all’accesso alla Scuola.\nCome partecipareLa partecipazione a
 lla diretta è riservata a 1000 partecipanti.Dal giorno lavorativo seguente
  la diretta\, l’accesso sarà aperto a tutti per la fruizione della registr
 azione e dei materiali in modalità asincrona.\nPer gli iscritti è previsto
  il rilascio di un open badge personale attestante la competenza acquisita
  a conclusione del percorso formativo.I materiali delle attività formative
  erogate da IFEL sono disponibili anche in libera fruizione:\n\nsul canale
  YouTube Formazione IFEL\, nella playlist dedicata\n https://www.taketheda
 te.it/Eventi/52528-valutazione-dei-rischi-dintegrita-pubblica.html
DTSTART:20260424T093000Z
DTEND:20260424T110000Z
LOCATION:evento online  ()
SUMMARY:Valutazione dei rischi d'integrità pubblica 
URL:https://www.takethedate.it/Eventi/52528-valutazione-dei-rischi-dintegri
 ta-pubblica.html
END:VEVENT
END:VCALENDAR
