BEGIN:VCALENDAR
VERSION:2.0
PRODID:-//https://www.takethedate.it///NONSGML kigkonsult.se iCalcreator 2.10.15//
METHOD:PUBLISH
BEGIN:VEVENT
UID:20260423T130942CEST-7655fU02XD@https://www.takethedate.it/
DTSTAMP:20260423T110942Z
DESCRIPTION:Il futuro dell’innovazione nel Sud: Talk & workshop su startup\
 , innovazione e sviluppo EcoDigital Sede ARS - Palazzo Minoriti Via Etnea 
 73\, Catania (CT) 23 Aprile 2026 | dalle ore 16:00 Interventi: Alfonso Pec
 oraro Scanio - Presidente Fondazione UniVerde Promotore rete #EcoDigital J
 ose Marano - Deputato Assemblea Regionale Siciliana Presidente Intergruppo
  Ecodigitali all’ARS Enzo Bianco - Già Presidente Nazionale Anci Gerardo D
 iana - Presidente Consorzio di Tutela Arancia Rossa di Sicilia IGP Manuel 
 Urzi - COO Startup Geeks Direttivo EcoDigital Silvia Carolò - CEO e Co-Fou
 nder aiVAGO Massimiliano Vitrano - Area Manager Sicilia Gruppo Banca Siste
 ma Carla Fortunato - Business Manager Lever PR Alberto Porto - CMO Ustep L
 ia Accetta - Business Strategist KidLabs Media & Communication Partner RAD
 IO RADICALE CONOSCERE PER DELIBERARE Italpress TeleAmbiente https://www.ta
 kethedate.it/Eventi/52488-sicilia-ecodigital-2026.html
DTSTART:20260423T140000Z
DTEND:20260423T170000Z
LOCATION:Catania (Catania)
SUMMARY:Sicilia Ecodigital 2026
URL:https://www.takethedate.it/Eventi/52488-sicilia-ecodigital-2026.html
END:VEVENT
END:VCALENDAR
