BEGIN:VCALENDAR
VERSION:2.0
PRODID:-//https://www.takethedate.it///NONSGML kigkonsult.se iCalcreator 2.10.15//
METHOD:PUBLISH
BEGIN:VEVENT
UID:20260423T131235CEST-75069Xv87R@https://www.takethedate.it/
DTSTAMP:20260423T111235Z
DESCRIPTION:Con il patrocinio di Anci\, giovedì 7 maggio 2026 alle ore 11.3
 0\, nella Sala Tassinari presso Palazzo D’Accursio\, in Piazza Maggiore 6 
 a Bologna\, si terrà l’incontro dal titolo “Dalla sovranità digitale all’i
 ntelligenza artificiale: il nuovo paradigma cloud per la PA italiana”.\nL’
 appuntamento sarà dedicato alle linee guida e agli strumenti concreti per 
 l’adozione\, da parte della pubblica amministrazione\, di infrastrutture s
 icure e resilienti\, con modelli economici prevedibili e in grado di soste
 nere l’evoluzione dei servizi pubblici.\nPer iscriversi a partecipare è su
 fficiente seguire il link di registrazione. https://www.takethedate.it/Eve
 nti/52483-dalla-sovranita-digitale-allintelligenza-artificiale-il-nuovo-pa
 radigma-cloud-per-la-pa-italiana.html
DTSTART:20260507T093000Z
DTEND:20260507T113000Z
LOCATION:Bologna ()
SUMMARY:Dalla sovranità digitale all’intelligenza artificiale: il nuovo par
 adigma cloud per la PA italiana
URL:https://www.takethedate.it/Eventi/52483-dalla-sovranita-digitale-allint
 elligenza-artificiale-il-nuovo-paradigma-cloud-per-la-pa-italiana.html
END:VEVENT
END:VCALENDAR
