BEGIN:VCALENDAR
VERSION:2.0
PRODID:-//https://www.takethedate.it///NONSGML kigkonsult.se iCalcreator 2.10.15//
METHOD:PUBLISH
BEGIN:VEVENT
UID:20260423T130951CEST-9137CwL7HU@https://www.takethedate.it/
DTSTAMP:20260423T110951Z
DESCRIPTION:Si svolgerà giovedì 23 aprile dalle 11.00\, presso la Sala Davi
 d Sassoli di Palazzo Valentini\, la conferenza stampa di presentazione del
 l’evento “Respirare il mare…e non solo”\, una giornata dedicata alle uscit
 e in barca a vela per bambini e adulti per la sensibilizzazione sulle mala
 ttie allergiche e respiratorie. L’evento\, giunto quest’anno alla XVIII ed
 izione è collegato al progetto rivolto alle scuole “Asma e Allergie: la ca
 ssetta degli attrezzi”.\nQuest’anno l’evento velico\, che ha ricevuto il p
 atrocinio della Città metropolitana di Roma Capitale\, si terrà a Trevigna
 no Romano il 7 giugno\, presso il Centro BeeKind e in collaborazione con i
 l Centro Velico 3V che metterà a disposizione le imbarcazioni e gli equipa
 ggi per portare in veleggiata le ragazze e i ragazzi che parteciperanno.\n
 Interverranno: Tiziana Biolghini\, Consigliera della Città metropolitana d
 i Roma Capitale\; Delegata Pari Opportunità\, Politiche Sociali\, Cultura\
 , Partecipazione\; Luca Galloni\, Vice Sindaco Comune di Trevignano Romano
 \; Sandra Frateiacci\, Presidente ALAMA-APS\, Vicepresidente Federasma e A
 llergia Odv\, Referente Nazionale Settore Salute OPES APS\; Andrea Frateia
 cci\, Amministratore unico BRACELLI CLUB\; Presidente Sezione “Giulio Ones
 ti” di Roma U.N.V.S. Unione Nazionale Veterani dello Sport\; Membro Giunta
  CONI Lazio. https://www.takethedate.it/Eventi/52447-presentazione-delleve
 nto-respirare-il-mare-e-non-solo.html
DTSTART:20260423T090000Z
DTEND:20260423T110000Z
LOCATION:Roma (Roma)
SUMMARY:Presentazione dell’evento “Respirare il mare…e non solo”
URL:https://www.takethedate.it/Eventi/52447-presentazione-dellevento-respir
 are-il-mare-e-non-solo.html
END:VEVENT
END:VCALENDAR
