BEGIN:VCALENDAR
VERSION:2.0
PRODID:-//https://www.takethedate.it///NONSGML kigkonsult.se iCalcreator 2.10.15//
METHOD:PUBLISH
BEGIN:VEVENT
UID:20260422T132621CEST-65014pun2A@https://www.takethedate.it/
DTSTAMP:20260422T112621Z
DESCRIPTION:Ciclo di Webinar l’America Latina\, oggi 6° WEBINAR IL BRASILE 
 E L'AMERICA LATINA NEL DISORDINE GLOBALE Modera Pietro Regazzoni\, Fundaçã
 o Getúlio Vargas Europe\, Ossevatorio America Latina e Caraibi CeSPI Relaz
 ione Fabio Porta\, Deputato eletto in Sud America\, membro della Commissio
 ne Esteri della Camera Discussant Fulvia Zega\, Università di Genova Concl
 usioni Camillo Robertini\, Università di Messina\, Osservatorio America La
 tina e Caraibi CeSPI 29 APRILE 2026 - ORE 17:00\nREGISTRATI https://www.ta
 kethedate.it/Eventi/52434-il-brasile-e-lamerica-latina-nel-disordine-globa
 le.html
DTSTART:20260429T150000Z
DTEND:20260429T170000Z
LOCATION:evento online  ()
SUMMARY:Il Brasile e l'america latina nel disordine globale
URL:https://www.takethedate.it/Eventi/52434-il-brasile-e-lamerica-latina-ne
 l-disordine-globale.html
END:VEVENT
END:VCALENDAR
