BEGIN:VCALENDAR
VERSION:2.0
PRODID:-//https://www.takethedate.it///NONSGML kigkonsult.se iCalcreator 2.10.15//
METHOD:PUBLISH
BEGIN:VEVENT
UID:20260421T193722CEST-4171TzGXeS@https://www.takethedate.it/
DTSTAMP:20260421T173722Z
DESCRIPTION:Il Consiglio dei ministri è convocato oggi\, martedì 21 aprile 
 2026\, alle ore 17.30 a Palazzo Chigi\, per l’esame del seguente ordine de
 l giorno:\n\nSCHEMA DI SCHEMA DI DECRETO LEGISLATIVO: Attuazione della dir
 ettiva (UE) 2024/1203 del Parlamento europeo e del Consiglio\, dell’11 apr
 ile 2024\, sulla tutela penale dell’ambiente\, che sostituisce le direttiv
 e 2008/99/CE e 2009/123/CE – ESAME DEFINITIVO (AFFARI EUROPEI\, PNRR E POL
 ITICHE DI COESIONE – GIUSTIZIA)\;\nLEGGI REGIONALI\;\nVARIE ED EVENTUALI.
 \n https://www.takethedate.it/Eventi/52422-consiglio-dei-ministri-21-april
 e-2026.html
DTSTART:20260421T153000Z
DTEND:20260421T173000Z
LOCATION:Roma (Roma)
SUMMARY:Consiglio dei Ministri 21 aprile 2026
URL:https://www.takethedate.it/Eventi/52422-consiglio-dei-ministri-21-april
 e-2026.html
END:VEVENT
END:VCALENDAR
