BEGIN:VCALENDAR
VERSION:2.0
PRODID:-//https://www.takethedate.it///NONSGML kigkonsult.se iCalcreator 2.10.15//
METHOD:PUBLISH
BEGIN:VEVENT
UID:20260420T041744CEST-2528HTpeGA@https://www.takethedate.it/
DTSTAMP:20260420T021744Z
DESCRIPTION:Milano: Il Giornale e Moneta presentano 'Il Santo Graal dell'En
 ergia'\, un appuntamento di confronto e approfondimento sui grandi temi de
 ll'energia di oggi e di domani. Ore 9\,30. Partecipa\, tra gli altri\, Gil
 berto Pichetto Fratin\, ministro dell'Ambiente e della Sicurezza Energetic
 a. Presso la Fondazione Feltrinelli\, viale Pasubio 5. https://www.takethe
 date.it/Eventi/52348-il-santo-graal-dellenergia.html
DTSTART:20260420T073000Z
DTEND:20260420T093000Z
LOCATION:evento online  ()
SUMMARY:Il Santo Graal dell'Energia
URL:https://www.takethedate.it/Eventi/52348-il-santo-graal-dellenergia.html
END:VEVENT
END:VCALENDAR
