BEGIN:VCALENDAR
VERSION:2.0
PRODID:-//https://www.takethedate.it///NONSGML kigkonsult.se iCalcreator 2.10.15//
METHOD:PUBLISH
BEGIN:VEVENT
UID:20260421T022621CEST-0061VBphDx@https://www.takethedate.it/
DTSTAMP:20260421T002621Z
DESCRIPTION:Milano: conferenza stampa di presentazione di 'Creative Age. Mu
 sei e Arte per l'Alzheimer - Percorsi di benessere e inclusione per person
 e con demenza e i loro caregiver'. Ore 10\,00. Presso Regione Lombardia\, 
 Palazzo Pirelli. https://www.takethedate.it/Eventi/52332-creative-age-muse
 i-e-arte-per-lalzheimer-percorsi-di-benessere-e-inclusione-per-persone-con
 -demenza-e-i-loro-caregiver.html
DTSTART:20260421T080000Z
DTEND:20260421T100000Z
LOCATION:Milano (Milano)
SUMMARY:Creative Age. Musei e Arte per l'Alzheimer - Percorsi di benessere 
 e inclusione per persone con demenza e i loro caregiver
URL:https://www.takethedate.it/Eventi/52332-creative-age-musei-e-arte-per-l
 alzheimer-percorsi-di-benessere-e-inclusione-per-persone-con-demenza-e-i-l
 oro-caregiver.html
END:VEVENT
END:VCALENDAR
