BEGIN:VCALENDAR
VERSION:2.0
PRODID:-//https://www.takethedate.it///NONSGML kigkonsult.se iCalcreator 2.10.15//
METHOD:PUBLISH
BEGIN:VEVENT
UID:20260425T155735CEST-8488X48c85@https://www.takethedate.it/
DTSTAMP:20260425T135735Z
DESCRIPTION:Cerimonia in occasione dell'81° Anniversario della Liberazione 
 https://www.takethedate.it/Eventi/52324-cerimonia-in-occasione-dell81-anni
 versario-della-liberazione.html
DTSTART:20260425T090000Z
DTEND:20260425T110000Z
LOCATION:Roma (Roma)
SUMMARY:Cerimonia in occasione dell'81° Anniversario della Liberazione
URL:https://www.takethedate.it/Eventi/52324-cerimonia-in-occasione-dell81-a
 nniversario-della-liberazione.html
END:VEVENT
END:VCALENDAR
