BEGIN:VCALENDAR
VERSION:2.0
PRODID:-//https://www.takethedate.it///NONSGML kigkonsult.se iCalcreator 2.10.15//
METHOD:PUBLISH
BEGIN:VEVENT
UID:20260421T022155CEST-7036736f36@https://www.takethedate.it/
DTSTAMP:20260421T002155Z
DESCRIPTION:La riforma della tariffa rifiuti in uno scenario a complessità 
 crescente:il nuovo TICSER Arera\n21 aprile 2026dalle ore 9:00\nSocietà Dan
 te AlighieriPiazza di Firenze\, 27 - RomaISCRIVITI\nPROGRAMMA\nOre 9.15 - 
  Registrazione \nApertura dei lavoriPierciro GALEONE\, Direttore Fondazion
 e IFELModeraFrancesca PROIA\, Responsabile Area entrate e riscossione IFEL
 Il contesto attuale: i regimi di prelievo in Italia e la loro diffusione.L
 imiti e opportunità della stratificazioneAndrea FERRI\, Vice direttore IFE
 L\, Responsabile Finanza Locale ANCI-IFELIl TICSER spiegato dall’Autorità:
  obiettivi e principali contenuti della riformaAngelamaria GROPPI\, Respon
 sabile Unità Corrispettivi Servizi Idrici e Rifiuti ARERAL’implementazione
  del TICSER negli Enti localiWalter GIACETTI\, consulente IFEL\, Direttore
  generale A&T 2000La misurazione puntuale dei rifiuti: elementi normativi\
 , sistemi\,opportunità e criticitàDavide DONADIO\, consulente IFEL\, esper
 to tariffazione puntualeOre 11.30 / Coffee breakOre 12.00 / TAVOLA ROTONDA
 Il TICSER e i segnali di prezzo: le sfide dell’economia circolare e il tem
 a della responsabilizzazione degli utentiModeraDavide DONADIO\, consulente
  IFEL\, esperto tariffazione puntualeAnnamaria BARRILE\, Direttore general
 e UtilitaliaBruno MANZI\, Presidente AMA Roma SpAVito BELLADONNA\, Coordin
 atore tecnico-scientifico dell’Area Rifiuti di ANEASalvatore PINNA\, Diret
 tore del Servizio tutela dell’atmosfera e del territorio della Regione Sar
 degna - Coordinamento tecnico rifiuti Commissione Ambiente e Energia della
  Conferenza delle RegioniDavide IANNARELLI\, Direttore CEM Ambiente SpAGio
 vanni BIAGINI\, Direttore del Consiglio di Bacino RovigoGiovanni SPALLETTA
 \, Direttore Generale delle Finanze\, Ministero dell’Economia e delle Fina
 nzeLaura D’APRILE\, Capo del Dipartimento per la transizione ecologica e g
 li investimenti verdi\,Ministero dell’Ambiente e della Sicurezza Energetic
 aDomande e Risposte Q&A sulla seconda sessioneOre 13.30 / ConclusioniMassi
 mo RICCI\, Direttore Divisione Ambiente ARERAAndrea FERRI\, Vice direttore
  IFEL\, Responsabile Finanza Locale ANCI-IFEL\nTEMA\nIl seminario nasce na
 sce con l’obiettivo di approfondire i contenuti della riforma dei criteri 
 di determinazione delle tariffe agli utenti del servizio rifiuti\, avviata
  da ARERA con la delibera n. 396/2025\, e di favorire un confronto tra i p
 rincipali attori del sistema.Il nuovo impianto regolatorio introduce eleme
 nti di significativa innovazione\, ma risulta ancora poco conosciuto e la 
 sua portata appare\, allo stato attuale\, non pienamente compresa dagli st
 akeholder coinvolti. Permangono infatti numerose questioni aperte\, sia co
 n riferimento allo scenario di applicazione a regime\, sia rispetto alla f
 ase di transizione dai modelli attuali al metodo previsto dal TICSER.Il se
 minario IFEL\, al quale parteciperanno rappresentanti di ARERA\, dei Comun
 i e degli Enti d’ambito\, dei gestori del servizio\, delle Regioni e dei M
 inisteri dell’Economia e dell’Ambiente\, prevede una prima sessione dedica
 ta all’illustrazione del nuovo quadro tariffario e una seconda sessione ar
 ticolata in una tavola rotonda\, finalizzata a raccogliere osservazioni\, 
 criticità e proposte. https://www.takethedate.it/Eventi/52298-la-riforma-d
 ella-tariffa-rifiuti-in-uno-scenario-a-complessita-crescente-il-nuovo-tics
 er-arera.html
DTSTART:20260421T070000Z
DTEND:20260421T100000Z
LOCATION:Roma (Roma)
SUMMARY:La riforma della tariffa rifiuti in uno scenario a complessità cres
 cente: il nuovo TICSER Arera
URL:https://www.takethedate.it/Eventi/52298-la-riforma-della-tariffa-rifiut
 i-in-uno-scenario-a-complessita-crescente-il-nuovo-ticser-arera.html
END:VEVENT
END:VCALENDAR
