BEGIN:VCALENDAR
VERSION:2.0
PRODID:-//https://www.takethedate.it///NONSGML kigkonsult.se iCalcreator 2.10.15//
METHOD:PUBLISH
BEGIN:VEVENT
UID:20260425T155118CEST-3188TI4dC3@https://www.takethedate.it/
DTSTAMP:20260425T135118Z
DESCRIPTION:Presentazione del libro 25 aprile 2026 ore 17:00 La 'Casa di Ba
 cco' Piazza Castello\, 17 Guardia Sanframondi (Bn)\nLa leadership del futu
 ro per i giovani nasce dal servizio gentile: competenza\, coraggio e ascol
 to. https://www.takethedate.it/Eventi/52270-la-rivoluzione-gentile-in-camm
 ino.html
DTSTART:20260425T150000Z
DTEND:20260425T170000Z
LOCATION:Guardia Sanframondi (Guardia Sanframondi)
SUMMARY:La rivoluzione gentile...in cammino
URL:https://www.takethedate.it/Eventi/52270-la-rivoluzione-gentile-in-cammi
 no.html
END:VEVENT
END:VCALENDAR
