BEGIN:VCALENDAR
VERSION:2.0
PRODID:-//https://www.takethedate.it///NONSGML kigkonsult.se iCalcreator 2.10.15//
METHOD:PUBLISH
BEGIN:VEVENT
UID:20260421T194022CEST-7281Tk0Pbm@https://www.takethedate.it/
DTSTAMP:20260421T174022Z
DESCRIPTION:21 aprile 2026\, ore 17.30 Sala conferenze Fondazione Basso L’i
 ncontro sarà trasmesso in streaming sul canale YouTube della Fondazione Ba
 sso.\nFondazione Lelio e Lisli Basso e Sapienza Università di Roma (Dipart
 imento di storia\, antropologia\, religioni\, arte\, spettacolo) – Progett
 o di Terza missione in collaborazione con Campagna Sbilanciamoci!\, Associ
 azione Salviamo la Costituzione\, Centro Riforma dello Stato\, Rete Italia
 na Pace e Disarmo\, Greenpeace Italia presentano Ciclo di incontri Le guer
 re e noi Ricerca militare\, armi nucleari\, tecnologie digitali (8 aprile 
 – 22 giugno 2026).\nDario Guarascio\, Sapienza Università di Roma\, autore
  di Imperialismo digitale (Laterza\, 2026) Maria Grazia Betti\, Sapienza U
 niversità di Roma intervengono Giulio De Petra\, Centro Riforma dello Stat
 o Franco Padella\, chimico e divulgatore scientifico.\nL’incontro sarà tra
 smesso in streaming sul canale YouTube della Fondazione Basso https://www.
 takethedate.it/Eventi/52245-le-guerre-e-noi-ricerca-militare-armi-nucleari
 -tecnologie-digitali.html
DTSTART:20260421T153000Z
DTEND:20260421T183000Z
LOCATION:Roma (Roma)
SUMMARY:Le guerre e noi. ricerca militare\, armi nucleari\, tecnologie digi
 tali
URL:https://www.takethedate.it/Eventi/52245-le-guerre-e-noi-ricerca-militar
 e-armi-nucleari-tecnologie-digitali.html
END:VEVENT
END:VCALENDAR
