BEGIN:VCALENDAR
VERSION:2.0
PRODID:-//https://www.takethedate.it///NONSGML kigkonsult.se iCalcreator 2.10.15//
METHOD:PUBLISH
BEGIN:VEVENT
UID:20260423T131719CEST-2891vUiLki@https://www.takethedate.it/
DTSTAMP:20260423T111719Z
DESCRIPTION:Il carcinoma mammario è la neoplasia più comune tra le donne\, 
 ma il tasso di mortalità per questo tipo di neoplasia sta diminuendo nella
  maggior parte dei paesi grazie alla caratterizzazione molecolare dei dive
 rsi sottotipi e trattamenti basati sulla biologia del tumore. Negli ultimi
  anni assistiamo ad una continua espansione delle opzioni terapeutiche per
  il trattamento del carcinoma mammario\, con importanti ricadute in termin
 i di personalizzazione delle cure. In questo scenario\, la disponibilità d
 i molteplici scelte diagnostiche e terapeutiche ha consentito un approccio
  moderno al carcinoma mammario in cui la chemioterapia neoadiuvante viene 
 ampiamente utilizzata nella gestione ordinaria dei pazienti con carcinoma 
 mammario. Esistono numerosi potenziali benefici dell’applicazione del trat
 tamento sistemico prima dell’intervento. In effetti\, l’impostazione neoad
 iuvante può ridurre significativamente le dimensioni del tumore permettend
 o così un intervento chirurgico meno invasivo. La chemioterapia neoadiuvan
 te è spesso considerata un test di sensibilità farmacologica personalizzat
 o in vivo\, in quanto consente di fornire informazioni tempestive sulla ri
 sposta tumorale\, valutare l’efficacia di nuove terapie in vivo e introdur
 re nuove terapie mirate\, traducendo i progressi scientifici nella pratica
  clinica. Pertanto\, una gestione multidisciplinare delle pazienti con car
 cinoma mammario risulta essere lachiave di questo successo.\nScarica il pr
 ogramma https://www.takethedate.it/Eventi/52079-chemioterapia-neo-adiuvant
 e-nel-trattamento-del-carcinoma-mammario-tra-innovazione-e-personalizzazio
 ne-della-cura.html
DTSTART:20260423T063000Z
DTEND:20260423T161500Z
LOCATION:Treviso (Treviso)
SUMMARY:Chemioterapia neo-adiuvante nel trattamento del carcinoma mammario:
  tra innovazione e personalizzazione della cura
URL:https://www.takethedate.it/Eventi/52079-chemioterapia-neo-adiuvante-nel
 -trattamento-del-carcinoma-mammario-tra-innovazione-e-personalizzazione-de
 lla-cura.html
END:VEVENT
END:VCALENDAR
