BEGIN:VCALENDAR
VERSION:2.0
PRODID:-//https://www.takethedate.it///NONSGML kigkonsult.se iCalcreator 2.10.15//
METHOD:PUBLISH
BEGIN:VEVENT
UID:20260423T165153CEST-2748z3te3f@https://www.takethedate.it/
DTSTAMP:20260423T145153Z
DESCRIPTION:X Corso Europeo di Psico-Oncologia Webinar\, gennaio – giugno 2
 026\nScarica il programma https://www.takethedate.it/Eventi/51735-la-ricer
 ca-applicata-multidisciplinare-in-oncologia-e-oncoematologia-pediatrica.ht
 ml
DTSTART:20260424T143000Z
DTEND:20260424T173000Z
LOCATION:evento online  ()
SUMMARY:La ricerca applicata multidisciplinare in oncologia e oncoematologi
 a pediatrica
URL:https://www.takethedate.it/Eventi/51735-la-ricerca-applicata-multidisci
 plinare-in-oncologia-e-oncoematologia-pediatrica.html
END:VEVENT
END:VCALENDAR
