BEGIN:VCALENDAR
VERSION:2.0
PRODID:-//https://www.takethedate.it///NONSGML kigkonsult.se iCalcreator 2.10.15//
METHOD:PUBLISH
BEGIN:VEVENT
UID:20260421T234049CEST-42586jKk4R@https://www.takethedate.it/
DTSTAMP:20260421T214049Z
DESCRIPTION:Presentazione del volume: 'La Costituzione è donna. Le conquist
 e per la parità di genere dal 1946 ad oggi' (Carocci 2025)\nIntroduce Stef
 ano Ceccanti (Sapienza Università di Roma). Intervengono: Anna Chimenti (C
 ostituzionalista)\, Maria Natale (storica del diritto). Conclude Francesco
  Clementi (Sapienza università di Roma) https://www.takethedate.it/Eventi/
 50840-presentazione-del-volume-la-costituzione-e-donna-le-conquiste-per-la
 -parita-di-genere-dal-1946-ad-oggi.html
DTSTART:20260310T073000Z
DTEND:20260310T093000Z
LOCATION:evento online  ()
SUMMARY:Presentazione del volume: 'La Costituzione è donna. Le conquiste pe
 r la parità di genere dal 1946 ad oggi'
URL:https://www.takethedate.it/Eventi/50840-presentazione-del-volume-la-cos
 tituzione-e-donna-le-conquiste-per-la-parita-di-genere-dal-1946-ad-oggi.ht
 ml
END:VEVENT
END:VCALENDAR
