BEGIN:VCALENDAR
VERSION:2.0
PRODID:-//https://www.takethedate.it///NONSGML kigkonsult.se iCalcreator 2.10.15//
METHOD:PUBLISH
BEGIN:VEVENT
UID:20260422T104838CEST-3555vvUdvj@https://www.takethedate.it/
DTSTAMP:20260422T084838Z
DESCRIPTION:3 marzo 2026 dalle ore 12:00\nCerimonia di consegna delle onori
 ficenze Omri conferite ‘motu proprio’ a cittadini distintisi per atti di e
 roismo e impegno civile dal Presidente Mattarella https://www.takethedate.
 it/Eventi/50743-cerimonia-di-consegna-delle-onorificenze-omri-conferite-mo
 tu-proprio-a-cittadini-distintisi-per-atti-di-eroismo-e-impegno-civile.htm
 l
DTSTART:20260303T110000Z
DTEND:20260303T140000Z
LOCATION:Roma (Roma)
SUMMARY:Cerimonia di consegna delle onorificenze OMRI conferite 'motu propr
 io' a cittadini distintisi per atti di eroismo e impegno civile
URL:https://www.takethedate.it/Eventi/50743-cerimonia-di-consegna-delle-ono
 rificenze-omri-conferite-motu-proprio-a-cittadini-distintisi-per-atti-di-e
 roismo-e-impegno-civile.html
END:VEVENT
END:VCALENDAR
