BEGIN:VCALENDAR
VERSION:2.0
PRODID:-//https://www.takethedate.it///NONSGML kigkonsult.se iCalcreator 2.10.15//
METHOD:PUBLISH
BEGIN:VEVENT
UID:20260421T181046CEST-8727J8ExiX@https://www.takethedate.it/
DTSTAMP:20260421T161046Z
DESCRIPTION:Consiglio dei ministri in data 26 febbraio 2026 dalle ore 11:30
  https://www.takethedate.it/Eventi/50605-consiglio-dei-ministri-26-febbrai
 o-2026.html
DTSTART:20260226T103000Z
DTEND:20260226T133000Z
LOCATION:Roma (Roma)
SUMMARY: Consiglio dei Ministri 26 febbraio 2026
URL:https://www.takethedate.it/Eventi/50605-consiglio-dei-ministri-26-febbr
 aio-2026.html
END:VEVENT
END:VCALENDAR
