BEGIN:VCALENDAR
VERSION:2.0
PRODID:-//https://www.takethedate.it///NONSGML kigkonsult.se iCalcreator 2.10.15//
METHOD:PUBLISH
BEGIN:VEVENT
UID:20260426T015949CEST-3535Axr88u@https://www.takethedate.it/
DTSTAMP:20260425T235949Z
DESCRIPTION:L'evento si svolge a Brescia \nLe tecnologie per la conversione
  elettro-termica e l’accumulo elettrochimico stanno vivendo una fase di im
 portante fermento grazie a molti fattori normativi. Queste tecnologie sono
  viste come i principali fattori abilitanti per la grid parity dei piccoli
  impianti FV.\nL’ultima versione della Strategia Energetica Nazionale pone
  particolare accento sull’elettrificazione dei consumi. Nella stessa direz
 ione spinge la riforma delle tariffe elettriche per gli utenti domestici e
  non che prevede tariffe maggiormente convenienti per consumi medio alti.
 \nUn ulteriore spinta all’autoconsumo arriva dalla Commissione Europea che
 \, con l’emananda nuova Direttiva per le Rinnovabili pone particolare atte
 nzione alla generazione distribuita.\nIl convegno – a partecipazione GRATU
 ITA – si inserisce in questo contesto e si pone l’ambizioso obiettivo di t
 rattare in maniera esaustiva gli aspetti tecnici e normativi di una proget
 tazione consapevole e in sicurezza dell’autoconsumo.\nIl convegno si svolg
 erà il giorno 11 ottobre 2017 c/o l’Hotel Fiera di Brescia a 100 metri dal
  casello A4 Brescia Ovest.\n\nProgramma\n09:00 | Registrazione partecipant
 i\n09:30 | Andrea Parrini – Direttore Tecnico P.M. Service\n\nPresentazion
 e introduzione\n\n10:00 | Emilio Sani – Consigliere ITALIA SOLARE\n\nSiste
 mi di Distribuzione Chiusi e Aggregatori: tutte le opportunità per i picco
 li impianti FV\n\n10:30 | Rappresentante TUV\n\nLe certificazioni per i mo
 duli FV sono ancora obbligatorie?\n\n11:00 | Pausa caffè\n11:30 | Massimo 
 Gamba – Titolare Studio Gamba\n\nImpianti FV plug&play: utopia o realtà?\n
 \n12:00 |Rappresentante Studio ING\n\nIntegrazione del FV con sistemi di a
 ccumulo termico\n\n12:30 | Andrea Parrini – Direttore Tecnico P.M. Service
 \n\nLa progettazione consapevole dell’autoconsumo\n\n13:00 | Dibattito col
  pubblico\n13:30 | Pausa pranzo + incontri 1to1\n15:00 | Sessione tecnica 
 1 + incontri 1to1\n\nSistemi di accumulo elettrochimico\nSistemi di accumu
 lo termico\n\n16:00 | Sessione tecnica 2 + incontri 1to1\n\nModuli fotovol
 taici\nSviluppo tecnologico\n\n17:00 | Aperitivo + incontri 1to1\n18:30 | 
 Fine https://www.takethedate.it/Eventi/504-autoconsumo-e-sviluppo-tecnolog
 ico-per-il-fotovoltaico-del-futuro.html
DTSTART:20171012T070000Z
DTEND:20171012T160000Z
LOCATION:Hotel Fiera di Brescia (Via Orzinuovi 135/139\, Brescia)
SUMMARY:Autoconsumo e sviluppo tecnologico per il fotovoltaico del futuro
URL:https://www.takethedate.it/Eventi/504-autoconsumo-e-sviluppo-tecnologic
 o-per-il-fotovoltaico-del-futuro.html
END:VEVENT
END:VCALENDAR
