BEGIN:VCALENDAR
VERSION:2.0
PRODID:-//https://www.takethedate.it///NONSGML kigkonsult.se iCalcreator 2.10.15//
METHOD:PUBLISH
BEGIN:VEVENT
UID:20260422T190312CEST-3220oXNVvk@https://www.takethedate.it/
DTSTAMP:20260422T170312Z
DESCRIPTION:Dalla collaborazione fra AgID e DAMA Italy\, tra le più importa
 nti community dei professionisti dei dati\, nasce un ciclo di webinar dedi
 cato al ruolo strategico dei dati nell’era della seconda rivoluzione digit
 ale. L’obiettivo è coinvolgere e sensibilizzare i professionisti e le orga
 nizzazioni\, avviando concretamente l’attuazione del Data Governance Act (
 DGA). Il DGA mira a favorire la condivisione dei dati\, stabilendo regole 
 per il loro riutilizzo e definendo un quadro normativo per l’intermediazio
 ne e l’altruismo dei dati.\nIl percorso prevede sei appuntamenti. Il primo
  incontro è in programma per il 29 gennaio con il titolo “Un mondo data-dr
 iven: il dato come asset strategico al tempo della seconda rivoluzione dig
 itale”. I successivi incontri tematici saranno dedicati a qualità del dato
 \, alle tecnologie per la cultura del dato\, al Data Governance Act e AI A
 ct\, alla data literacy per le PMI e all’etica del dato.\nIl programma del
  primo webinar\nIl primo webinar dal titolo “Un mondo data-driven: il dato
  come asset strategico al tempo della seconda rivoluzione digitale”\, che 
 si terrà giovedì 29 gennaio\, dalle ore 11.00 alle 12.00\, sarà un’occasio
 ne per presentare il ciclo degli appuntamenti e approfondire il tema del d
 ato come risorsa da valorizzare al fine di creare innovazione e vantaggio 
 competitivo \nDi seguito il programma: \n\nIntroduzione ai lavori\nInterve
 nto di Mario Nobile\, Direttore Generale AgID\nIntervento di Nino Letterie
 llo\, Presidente DAMA Italy\nDomande e risposte \n\nPer iscriversi al webi
 nar è necessario registrarsi compilando l’apposito form. https://www.taket
 hedate.it/Eventi/49948-un-mondo-data-driven-il-dato-come-asset-strategico-
 al-tempo-della-seconda-rivoluzione-digitale.html
DTSTART:20260129T100000Z
DTEND:20260129T110000Z
LOCATION:evento online  ()
SUMMARY:Un mondo data-driven: il dato come asset strategico al tempo della 
 seconda rivoluzione digitale
URL:https://www.takethedate.it/Eventi/49948-un-mondo-data-driven-il-dato-co
 me-asset-strategico-al-tempo-della-seconda-rivoluzione-digitale.html
END:VEVENT
END:VCALENDAR
