BEGIN:VCALENDAR
VERSION:2.0
PRODID:-//https://www.takethedate.it///NONSGML kigkonsult.se iCalcreator 2.10.15//
METHOD:PUBLISH
BEGIN:VEVENT
UID:20260423T180551CEST-2679ExuRjl@https://www.takethedate.it/
DTSTAMP:20260423T160551Z
DESCRIPTION:Il 40° Convegno di Capri\, promosso dai Giovani Imprenditori di
  Confindustria\, si terrà il 10 e 11 ottobre 2025 al Grand Hotel Quisisana
  di Capri. L’evento celebra quarant’anni di incontri che hanno segnato il 
 dibattito su innovazione\, crescita e impresa in Italia\, riunendo protago
 nisti delle istituzioni\, dell’economia e della cultura per discutere il f
 uturo del Paese.\nprogramma\nVenerdì 10 ottobreore 14.30 Registrazione dei
  partecipantiore 15.00 Apertura dei lavori – Francesco Basileore 15.10 Int
 ervento – Maria Anghileriore 15.40 Intervista – Maria Elisabetta Alberti C
 asellatiore 15.55 Intervento – Nando Pagnoncelliore 16.10 Interventi – Lui
 gi Abete\, Antonio D’Amatoore 16.30 Intervista – Carlo Calendaore 16.40 In
 terventi – Regina Corradini D’Arienzo\, Francesco Giavazziore 17.00 Interv
 ista – Tommaso Fotiore 17.15 Interventi – Paolo Barletta\, Rodolfo Guarino
 \, Diego Selvaore 17.45 Interventi – Stefano Cuzzilla\, Federico Leproux\,
  Stefano Lorenziore 18.15 Intervista – Adolfo Ursoore 18.30 Chiusura dei l
 avori\nSabato 11 ottobreore 9.30 Registrazione dei partecipantiore 10.00 A
 pertura dei lavori – Mattia Pilosuore 10.10 Intervento – Giancarlo Giorget
 tiore 10.25 Interventi – Lucia Aleotti\, Diego Della Valleore 10.45 Interv
 enti – Pietro Labriola\, Renato Mazzonciniore 11.05 Intervista – Antonella
  Sbernaore 11.20 Interventi – Luca Burrafato\, Bernardo Mattarellaore 11.4
 0 Interventi – Letizia Moratti\, Mariavittoria Ravaore 12.00 Intervista – 
 Cesare Cremoniniore 12.30 Intervista – Emanuele Orsiniore 13.00 Conclusion
 i – Maria Anghileri\nModera i lavori: David Parenzo https://www.takethedat
 e.it/Eventi/48212-convegno-di-capri---ritmo-il-tempo-dellimpresa-che-cresc
 e.html
DTSTART:20251010T123000Z
DTEND:20251011T113000Z
LOCATION:evento online  ()
SUMMARY:Convegno di Capri – RITMO. Il tempo dell’impresa che cresce
URL:https://www.takethedate.it/Eventi/48212-convegno-di-capri---ritmo-il-te
 mpo-dellimpresa-che-cresce.html
END:VEVENT
END:VCALENDAR
