BEGIN:VCALENDAR
VERSION:2.0
PRODID:-//https://www.takethedate.it///NONSGML kigkonsult.se iCalcreator 2.10.15//
METHOD:PUBLISH
BEGIN:VEVENT
UID:20260425T161504CEST-7957EStUSx@https://www.takethedate.it/
DTSTAMP:20260425T141504Z
DESCRIPTION:Una giornata di dibattiti e un ricchissimo programma per affron
 tare le sfide della sanità del futuro e renderla sostenibile a 360°. Il si
 stema sanitario italiano sta attraversando un periodo di profonde trasform
 azioni\, reso necessario dall’evoluzione demografica\, dall’aumento delle 
 patologie croniche e da sfide organizzative sempre più complesse. L’invecc
 hiamento della popolazione\, le disuguaglianze nell’accesso alle cure e la
  carenza di personale sanitario pongono interrogativi cruciali sulla soste
 nibilità del Servizio Sanitario Nazionale e a discuterne saranno Ministri\
 , Sottosegretari\, stakeholders\, clinici\, associazioni pazienti e aziend
 e.\nDopo i saluti del Presidente della Fondazione Stelline Fabio Massa\, i
 deatore della kermesse e della Vicepresidente del Senato Licia Ronzulli i 
 lavori entreranno nel vivo con gli interventi alle ore 10:00 del governato
 re Fontana e alle ore 10:30 del Ministro Schillaci.\nAlle ore 10.50 si par
 lerà dei bisogni in salute di una popolazione che invecchia con Maria Cris
 tina Cantù\, Vicepresidente Commissione 10° (Affari sociali\, sanità\, lav
 oro pubblico e privato\, previdenza sociale) del Senato della Repubblica\;
  Alessandro Cattaneo\, Commissione parlamentare per le questioni regionali
 \, Camera dei Deputati\; Giovanni Pavesi\, Direttore Amministrativo AIFA\;
  Giulio Gallera\, Presidente Commissione speciale PNRR\, monitoraggio sull
 ’utilizzo dei fondi europei ed efficacia dei bandi regionali e Componente 
 Commissione III Sanità di Regione Lombardia\; Francesco Greco\, Professore
  associato all’Università di Vienna e Direttore dell’UOC Urologia del Poli
 clinico San Pietro e di Centro Salute Uomo di Bergamo\; Stefano Carugo\, D
 irettore UOC Cardiologia del Policlinico di Milano\; Francesco Maisano\, D
 irettore Unità di Cardiochirurgia e direttore dell’Heart Valve Center dell
 ’IRCCS Ospedale San Raffaele di Milano e professore ordinario di Cardiochi
 rurgia presso l’Università Vita-Salute San Raffaele di Milano\; Giuseppe M
 usumeci\, Direttore di Cardiologia presso l’Azienda Ospedaliera Ordine Mau
 riziano di Torino e Gianluca Garziera\, General Manager Ypsomed Italia.\nA
 lle ore 11.50 il tema centrale sarà il modello one health per la salute so
 stenibile dove interverranno Giovanni Filippini\, Direttore Generale Salut
 e Animale del Ministero della Salute\; Andrea Costa\, Esperto di strategia
  e attuazione PNRR del Ministero della Salute\; Elena Murelli\, Commission
 e 10°(Affari sociali) del Senato della Repubblica\; Lamberto Bertolè\, Ass
 essore al Welfare e Salute del Comune di Milano\; Adele Patrini\, Presiden
 te Fondazione della Sostenibilità Sociale e Paolo Fedeli\, Corporate Affai
 rs Head\, Sandoz Italia.\nAlle ore 12.30 si dibatterà invece dell’oncologi
 a del futuro grazie all’innovazione con Vanessa Cattoi\, Componente Commis
 sione V (Bilancio\, Tesoro e Programmazione) della Camera dei Deputati\; A
 lessandro Amorosi\, Dirigente Struttura Reti Clinico assistenziali e organ
 izzative e ricerca\, Direzione Generale Welfare\, Regione Lombardia\; Silv
 ia Deandrea\, Centro a valenza regionale Screening Oncologici ATS Pavia\,U
 O Prevenzione\, DG Welfare di Regione Lombardia\; Francesco Grossi\, Diret
 tore SC Oncologia Medica\, Ospedale di Circolo – ASST dei Sette Laghi e Pr
 ofessore Ordinario di Oncologia Medica dell’Università degli Studi dell’In
 subria\; Giancarlo Pruneri\, Direttore Dipartimento Servizi e Diagnostica 
 Avanzata\, Fondazione IRCCS Istituto Nazionale Tumori\, Milano\, Professor
 e Ordinario di Anatomia Patologica e Direttore della Scuola di Specializza
 zione in Anatomia Patologica dell’Università degli Studi di Milano\; Massi
 mo Milione\, Direttore SC Anatomia Patologica 1 della Fondazione IRCCS Ist
 ituto Nazionale Tumori di Milano\; Vito Ladisa\, Direttore Farmacia ospeda
 liera\, Fondazione IRCCS Istituto Nazionale Tumori di Milano\; Anna Maria 
 Mancuso\, Presidente Salute Donna Onlus e coordinatrice del movimento “La 
 Salute: un bene da difendere\, un diritto da promuovere” e Antonio Baldass
 arra\, CEO Seeweb e CEO DHH.\nAlle ore 13.45 è previsto un dialogo a tu pe
 r tu con il Sottosegretario di Stato alla Salute Marcello Gemmato.\nSarà i
 nvece il Presidente di AIFA Robert Giovanni Nisticò ad intervenire alle or
 e 14.00 e subito dopo alle ore 14.20 si terrà un dialogo a tu per tu con l
 a Ministra per la famiglia\, la natalità e le pari opportunità Eugenia Mar
 ia Roccella.\nAlle ore 14.40 un focus su un argomento di forte attualità\,
  le neuroscienze e la salute mentale: verso un nuovo paradigma con Simona 
 Malpezzi\, Vicepresidente Commissione parlamentare per l’infanzia e l’adol
 escenza del Senato della Repubblica\; Elena Lucchini\, Assessore alla Fami
 glia\, Solidarietà sociale\, Disabilità e Pari opportunità di Regione Lomb
 ardia\; Simone Feder\, Educatore e psicologo\; Antonio Vita\, Ordinario di
  Psichiatria Università di Brescia e Direttore Dipartimento di Salute Ment
 ale e Dipendenze\, ASST Spedali Civili di Brescia\; Carlo Andrea Galimbert
 i\, Responsabile\, Centro per lo Studio e la Cura dell’Epilessia\, IRCCS F
 ondazione Mondino\, Pavia\, Presidente\, Lega Italiana Contro l’Epilessia 
 e Presidente nazionale della LICE (Lega Italiana Contro l’Epilessia)\; Isa
 bella Brambilla\, Presidente Dravet Italia Onlus e Presidente Alleanza Epi
 lessie Rare e Complesse Italia\; William Vaccani\, General Manager PDx GE 
 Healthcare IMI e Raffaele Caramuscio\, Market Access & Regulatory Affairs 
 Director Otsuka Pharmaceuticals Italia.\nIl Ministro per le Disabilità Ale
 ssandra Locatelli interverrà in un dialogo a tu per tu alle ore 15.45.\nPe
 r le sfide del futuro la sanità deve fare i conti con la digitalizzazione 
 e le nuove strutture assistenziali: questo il tema del panel delle ore 16.
 00 con Brando Benifei\, Europarlamentare e Co-Relatore AI Act\; Marco Alpa
 rone\, Vicepresidente e Assessore al Bilancio e Finanze di Regione Lombard
 ia\; Federico Riboldi\, Assessore alla Sanità di Regione Piemonte\; Pietro
  Bussolati\, Segretario I Commissione Programmazione\, bilancio\, società 
 controllate e partecipate di Regione Lombardia\; Ida Ramponi\, Direttore G
 enerale ATS Valtellina e Alto Lario\; Paolo Pogliani\, CEO PGMD Consulting
 \; Alessandro Stecco\, Direttore Centro Studi Telemedicina e Sanità Digita
 le UPOTELEMED\, Università del Piemonte Orientale\; Annarosa Racca\, Presi
 dente Federfarma Lombardia e Antonio Spera\, President & CEO GE Healthcare
  IMI.\nAlle ore 17.00 si parlerà invece del valore delle partnership Pubbl
 ico-private con Emanuele Monti\, Presidente Commissione IX Sostenibilità s
 ociale\, casa e famiglia di Regione Lombardia\; Carlo Nicora\, Vicepreside
 nte FIASO\; Matteo Stocco\, Direttore Generale IRCCS Cà Granda Ospedale Ma
 ggiore Policlinico\; Alessandro Venturi\, Presidente Fondazione IRCCS San 
 Matteo di Pavia\; Gianvincenzo Zuccotti\, Direttore Pediatria Ospedale Vit
 tore Buzzi ASST Fatebenefratelli Sacco\; Alessandra Gelera\, Presidente AL
 ISEI e Patrizia Olivari\, Amministratore Delegato Ipsen Italia.\nAlle ore 
 17.45 un incontro a tu per tu con l’Assessora allo Sviluppo Economico e Po
 litiche del lavoro del Comune di Milano Alessia Cappello.\nA chiudere la g
 iornata di dibattiti\, alle ore 18.00 al centro del dibattito saranno le m
 alattie rare e l’Horizon Scanning: sfide e soluzioni. Se ne parlerà con El
 ena Murelli\, Commissione 10°(Affari sociali) del Senato della Repubblica\
 ; Lisa Noja\, Componente Commissione III Sanità e Commissione IX Sostenibi
 lità sociale\, casa e famiglia\, Promotrice Intergruppo regionale “Malatti
 e rare\, malattie neurodegenerative e neuroscienze” di Regione Lombardia\;
  Chiara Valcepina\, Vicepresidente Commissione I Programmazione\, bilancio
 \, società controllate e partecipate e Componente Commissione IX Sostenibi
 lità sociale\, casa e famiglia\, Regione Lombardia\; Annalisa Scopinaro\, 
 Presidente UNIAMO\; Anna Chiara Rossi\, VP & General Manager Italy Alexion
 \, AstraZeneca Rare Disease\; Giovanni Giuliani\, Integrated Access Chapte
 r Lead\, Roche Italia\; Fabrizio Celia\, General Manager argenx\; Fabrizio
  Gianfrate\, Professore di Economia Sanitaria\; Mariangela Prada\, General
  Manager Intexo Società Benefit e Emanuele Corbetta\, Head of Life Science
 s NTT DATA Italia.\nLa XXVI Edizione di Salute Direzione Nord gode del pat
 rocinio della Commissione Europea e del Comune di Milano e del contributo 
 di Regione Lombardia e di Fondazione Cariplo. È promossa dalla Fondazione 
 Stelline e organizzata insieme a Inrete – Relazioni istituzionali e Comuni
 cazione.\nL’evento è aperto al pubblico\, ma per partecipare presso la sed
 e di Regione Lombardia in Piazza Città di Lombardia 1\, Ingresso N1\, è ne
 cessario registrarsi qui. https://www.takethedate.it/Eventi/47304-salute-d
 irezione-nord-2025-salute-una-scelta-politica.html
DTSTART:20250623T080000Z
DTEND:20250623T160000Z
LOCATION: ()
SUMMARY:Salute Direzione Nord 2025 - Salute\, una scelta politica
URL:https://www.takethedate.it/Eventi/47304-salute-direzione-nord-2025-salu
 te-una-scelta-politica.html
END:VEVENT
END:VCALENDAR
