BEGIN:VCALENDAR
VERSION:2.0
PRODID:-//https://www.takethedate.it///NONSGML kigkonsult.se iCalcreator 2.10.15//
METHOD:PUBLISH
BEGIN:VEVENT
UID:20260422T115744CEST-56514ru6Jt@https://www.takethedate.it/
DTSTAMP:20260422T095744Z
DESCRIPTION:Print4All\, la manifestazione di riferimento del settore torna 
 a Fiera Milano dal 27 al 30 maggio 2025\, come occasione unica per scoprir
 e innovazioni e nuovi trend\, guardando con un’attenzione particolare alle
  opportunità aperte dai principali driver di sviluppo del mercato. Digital
 izzazione\, green printing\, e nuovi materiali sono quindi importanti fil 
 rouge della manifestazione fieristica.Federazione Carta e Grafica avrà una
  presenza significativa all’interno della manifestazione\, portando i cont
 enuti delle proprie attività all’intera filiera presente in fiera come esp
 ositore o visitatore.Print4All 2025 propone quest’anno un approccio rinnov
 ato al concetto fieristico\, attraverso un modello pensato per valorizzare
  le relazioni e il confronto. Cuore pulsante di questa nuova edizione sarà
  il wearePrint4all Hub\, realizzato con la collaborazione di Argi e Acimga
  e posizionato al centro del padiglione 11\, un punto di incontro privileg
 iato per il mondo associativo\, un ambiente dinamico dedicato alle relazio
 ni e al networking con tutta la community del printing e del converting. P
 roprio in questa area troverà spazio la Federazione Carta e Grafica per sv
 iluppare un dialogo costante con soci\, istituzioni\, media e tutta la com
 munity.L’Hub sarà l’area dedicata alle relazioni ma anche ai contenuti\, c
 on un palinsesto convegnistico orientato ad alcuni macro-temi su cui si ar
 ticoleranno interventi di esperti\, analisti di settore\, operatori di mer
 cato\, fornitori e clienti. Si parlerà di digitalizzazione (Automazione e 
 Intelligenza Artificiale)\; materiali innovativi\; personalizzazione\; sos
 tenibilità e Green Printing\; sicurezza e tracciabilità\; creatività e nob
 ilitazione\; Made in Italy e competitività\, ma anche delle modalità per a
 vvicinare i giovani al mercato\, una priorità per assicurare innovazione e
  un futuro dinamico al settore. Per la prima volta\, inoltre\, la mostra a
 vrà un progetto speciale specificatamente dedicato al valore di uno dei ma
 teriali più virtuosi per la filiera dell’imballaggio: il corrugated. Il Ca
 rtone Ondulato sarà uno dei grandi protagonisti di Print4All 2025. Un vero
  e proprio “evento nell’evento”\, un focus tecnologico che pervaderà tutta
  l’offerta espositiva\, guidando l’operatore in visita in una sorta di un 
 percorso esperienziale tra oltre 30 aziende specializzate sul settore\, ch
 e racconteranno le innovazioni e le potenzialità di un materiale che sta s
 empre più diventando uno strumento di comunicazione visiva. https://www.ta
 kethedate.it/Eventi/46880-print4all-2025.html
DTSTART:20250527T070000Z
DTEND:20250530T160000Z
LOCATION: ()
SUMMARY:Print4All 2025
URL:https://www.takethedate.it/Eventi/46880-print4all-2025.html
END:VEVENT
END:VCALENDAR
