BEGIN:VCALENDAR
VERSION:2.0
PRODID:-//https://www.takethedate.it///NONSGML kigkonsult.se iCalcreator 2.10.15//
METHOD:PUBLISH
BEGIN:VEVENT
UID:20260423T011357CEST-1671rFoI4n@https://www.takethedate.it/
DTSTAMP:20260422T231357Z
DESCRIPTION:Il 20 giugno 2025\, FSHD Italia APS\, in collaborazione con la 
 UILDM e col Gruppo FSHD dell’AIM\, promuove a Roma il convegno nazionale d
 edicato alla distrofia facio-scapolo-omerale (FSHD).\nUn’intera giornata p
 er celebrare la Giornata Mondiale della FSHD\, fare rete\, raccontare i pr
 ogressi della ricerca e riaffermare i diritti delle persone che convivono 
 con questa malattia rara. Un evento unico\, ospitato nello spazio accessib
 ile e centrale di Zest Hub (Stazione Termini)\, pensato per informare\, co
 involgere e unire pazienti\, familiari\, medici e altri specialisti\, rice
 rcatori e istituzioni. https://www.takethedate.it/Eventi/46721-convegno-na
 zionale-fshd-italia-aps.html
DTSTART:20250620T063000Z
DTEND:20250620T153000Z
LOCATION:evento online  ()
SUMMARY:Convegno nazionale FSHD Italia APS
URL:https://www.takethedate.it/Eventi/46721-convegno-nazionale-fshd-italia-
 aps.html
END:VEVENT
END:VCALENDAR
