BEGIN:VCALENDAR
VERSION:2.0
PRODID:-//https://www.takethedate.it///NONSGML kigkonsult.se iCalcreator 2.10.15//
METHOD:PUBLISH
BEGIN:VEVENT
UID:20260422T183442CEST-6530wzJBdr@https://www.takethedate.it/
DTSTAMP:20260422T163442Z
DESCRIPTION:Un incontro organizzato da Luiss School of Government e Fondazi
 one Magna Carta con il patrocinio del Comune di Amalfi per esplorare il ru
 olo del Mediterraneo come spazio di crescita\, innovazione e cooperazione 
 per i giovani del Sud\n Sabato 29 marzo 2025\, ore 16.30Sala dell’Arsenale
 \, AmalfiSaluti Istituzionali- Daniele Milano\, Sindaco del Comune di Amal
 fi\nApertura dei Lavori- Giancarlo LoquenziIntervista- Edmondo Cirielli\, 
 Viceministro degli Affari Esteri e della Cooperazione Internazionale- Fran
 cesca Maria Corrao\, Professoressa di Lingua e Cultura Araba\, Università 
 Luiss Guido Carli- Virginie Collombier\, Professor of Practice\, Luiss Sch
 ool of Government e Scientific coordinator\, Mediterranean Platform- Maria
  Elena Cavallaro\, Professoressa di Storia delle Relazioni Internazionali\
 , Università Luiss Guido Carli- Francesco Fasolino\, Direttore del Diparti
 mento di Scienze Giuridiche\, Università di Salerno Mediterraneo come oppo
 rtunità- Vincenzo Boccia\, AD Boccia Industria Grafica SPA\, Past Presiden
 t di Confindustria- Antonio Gozzi\, Presidente Federacciai\, Special Advis
 or di Confindustria con Delega all’Autonomia Strategica Europea\, Piano Ma
 ttei e Competitività- Andrea Manciulli\, Direttore Relazioni Istituzionali
 \, Med-Or Italian Foundation- Andrea Prete\, Presidente Unioncamere\nConcl
 usioni- Gaetano Quagliariello\, Dean Luiss School of Government- Vincenzo 
 De Luca\, Presidente Regione Campania\nModeraGiancarlo Loquenzi\, Giornali
 sta https://www.takethedate.it/Eventi/46142-i-giovani-del-sud-e-il-mare-no
 strum-mediterraneo-come-opportunita.html
DTSTART:20250329T153000Z
DTEND:20250329T173000Z
LOCATION:Amalfi (Amalfi)
SUMMARY:I Giovani del sud e il Mare Nostrum. Mediterraneo come opportunità
URL:https://www.takethedate.it/Eventi/46142-i-giovani-del-sud-e-il-mare-nos
 trum-mediterraneo-come-opportunita.html
END:VEVENT
END:VCALENDAR
