BEGIN:VCALENDAR
VERSION:2.0
PRODID:-//https://www.takethedate.it///NONSGML kigkonsult.se iCalcreator 2.10.15//
METHOD:PUBLISH
BEGIN:VEVENT
UID:20260423T102902CEST-96347GwViP@https://www.takethedate.it/
DTSTAMP:20260423T082902Z
DESCRIPTION:Milano - I progetti di cooperazione allo sviluppo che possono e
 ssere realizzati da imprese italiane all'estero sono in grado di generare 
 valore economico\, ambientale e sociale per una vasta platea di stakeholde
 r. \nPer conseguire gli SDGs occorre adottare una prospettiva internaziona
 le: i 17 Obiettivi di Sviluppo Sostenibile contenuti nell'Agenda 2030 hann
 o una natura intrinsecamente globale e anche un'azienda con un focus domes
 tico\, di fatto\, opera in un mercato globalizzato\, in cui le catene del 
 valore si incrociano attraverso percorsi lunghi e interconnessi.  Inoltre\
 , è proprio nei Paesi in via di sviluppo che si possono ottenere i miglior
 amenti più significativi e più rapidi.\nLa cooperazione rappresenta quindi
  una leva per far evolvere un'attività di tipo filantropico in uno straord
 inario volano di business\, che tiene insieme gli interessi dell'impresa\,
  del Paese ospitante\, delle comunità locali e del pianeta. \nINCONTRO RIS
 ERVATO AGLI ASSOCIATI DEL CSR MANAGER NETWORK E AI LORO COLLEGHI DELLE FUN
 ZIONI CONNESSE ALLE ATTIVITA’ ALL’ESTERO\nPartecipate numerosi! è necessar
 io accreditarsi via email scrivendo a segreteria@csrmanagernetwork.it entr
 o il 15 aprile p.v.\nProgramma\n10.00: Saluto di benvenuto | Fulvio Rossi\
 , Presidente CSR Manager Network\n10.10: Il valore condiviso come chiave p
 er la competitività dell’impresa e lo sviluppo sostenibile dei Paesi in vi
 a di sviluppo | Davide Dal Maso\, Partner Avanzi sostenibilità per azioni
 \n10.40: Casi ed esempi innovativi:\nL’acceleratore Italo-keniota a Nairob
 i | Frank Cinque\, General Manager E4Impact\nClimate finance e meccanismi 
 de collaborazione | Andrea Maggiani\, CEO Carbon Sink Srl\nPrivate sector 
 collaboration to increase impact | Elena Avenati\, Private Sector & SDGs A
 dvocacy Manager Save the Children Italia\n11.45: Il ruolo del settore priv
 ato nel quadro della cooperazione italiana allo sviluppo | Grazia Sgarra\,
  AICS\nAnalisi del bisogno e delle opportunità\, Filippo Spagnuolo | Diret
 tore Esecutivo Comitato Collaborazione Medica CCM\nEsperienze aziendali: L
 a cooperazione internazionale per un produttore di cioccolato\, Angelo Ago
 stoni\, Presidente ICAM\;\nCreazione di valore per il territorio: interven
 ti di un contractor multinazionale nell’Oil and Gas a sostegno dello svilu
 ppo locale\, Marco Stampa\, Corporate Sustainability Manager Saipem https:
 //www.takethedate.it/Eventi/4502-sostenibilita-e-valore-condiviso-in-una-p
 rospettiva-di-cooperazione-internazionale.html
DTSTART:20180417T080000Z
DTEND:20180417T110000Z
LOCATION:CSR Manager Network (Via San Vittore 18\, Milano)
SUMMARY:Sostenibilità e valore condiviso in una prospettiva di cooperazione
  internazionale
URL:https://www.takethedate.it/Eventi/4502-sostenibilita-e-valore-condiviso
 -in-una-prospettiva-di-cooperazione-internazionale.html
END:VEVENT
END:VCALENDAR
