BEGIN:VCALENDAR
VERSION:2.0
PRODID:-//https://www.takethedate.it///NONSGML kigkonsult.se iCalcreator 2.10.15//
METHOD:PUBLISH
BEGIN:VEVENT
UID:20260421T061944CEST-7460CVBtbs@https://www.takethedate.it/
DTSTAMP:20260421T041944Z
DESCRIPTION:\n\nEvento organizzato da: AsstraTipo di evento: Convegno Nazio
 nale ASSTRADate: Da Lunedì 15 Aprile 2024 a Martedì 16 Aprile 2024Orari: 0
 9:30 - 22:30Indirizzo: Hotel NH Collection Roma Centro - via dei Gracchi\,
  324 Roma\n\n\n\nL’ingresso al Convegno Nazionale sarà consentito solo a c
 oloro che si sono iscritti online. \nPer la registrazione online\, che è o
 bbligatoria per tutti\,  occorrerà cliccare su:\n\nOSPITI e STAMPA:  rivol
 to solo a chi ha ricevuto l'invito e per gli addetti Stampa\nRELATORI:  pe
 r i Relatori chiamati ad intervenire\nASSOCIATI E NON ASSOCIATI ASSTRA: ri
 volto a tutti\, associati e non associati Asstra\n\nFare attenzione che l'
 email riportata in 'DATI FISCALI AZIENDALI' sarà quella che riceverà la co
 nferma della richiesta di partecipazione\, nonchè la successiva ricevuta d
 i conferma con apposito modulo riepilogativo contenente anche le modalità 
 di versamento della quota ove presente.\nSi invitano gli interessati a vol
 er preventivamente provvedere al pagamento della quota mediante le modalit
 à indicate nella ricevuta di conferma dell’iscrizione all’evento. Non verr
 anno accettati pagamenti in contanti contestualmente alla registrazione al
  desk. \n https://www.takethedate.it/Eventi/41597-innovation-mobility-asst
 ra.html
DTSTART:20240415T073000Z
DTEND:20240416T203000Z
LOCATION: ()
SUMMARY:Innovation Mobility - ASSTRA
URL:https://www.takethedate.it/Eventi/41597-innovation-mobility-asstra.html
END:VEVENT
END:VCALENDAR
