BEGIN:VCALENDAR
VERSION:2.0
PRODID:-//https://www.takethedate.it///NONSGML kigkonsult.se iCalcreator 2.10.15//
METHOD:PUBLISH
BEGIN:VEVENT
UID:20260423T175101CEST-9917ne0vhW@https://www.takethedate.it/
DTSTAMP:20260423T155101Z
DESCRIPTION:WEC Italia ha il piacere di invitarvi alla Conferenza internazi
 onale 'Transitioning Energy in the Mediterranean. Output from WEC Med cros
 s-regional collaboration initiative and OMEC Mediterranean Energy Perspect
 ives' organizzata insieme ad OMEC - Organisation Méditerranéenne de l'Ener
 gie et du Climat in collaborazione con Edison e in programma il prossimo 1
 2 marzo a partire dalle 14.00 CET a Roma (Sala Convegni Gianfranco Imperat
 ori di Civita\, Piazza Venezia 11)\, con contemporanea diretta streaming. 
  La partecipazione è aperta al pubblico previa registrazione sino ad esaur
 imento posti. Considerata la limitata capienza della sala consigliamo di p
 rovvedere quanto prima alla registrazione attraverso il form di iscrizione
 .  L'incontro sarà un'importante occasione per approfondire le tematiche l
 egate alla transizione e alla sicurezza energetica dell'area mediterranea 
 insieme ad alti rappresentanti istituzionali\, organizzazioni internaziona
 li e stakeholder energetici della regione. A supportare e dare il via ai d
 ibattiti\, i risultati dell'iniziativa a guida WEC Italia WEC Med cross-re
 gional collaboration initiative\, che coinvolge i Comitati nazionali WEC e
 d organizzazioni internazionali del Mediterraneo e del Golfo per stilare u
 na transition checklist di priorità energetiche condivise\, e dell'ultima 
 edizione della pubblicazione OMEC Mediterranean Energy Perspectives\, di r
 ecente presentata alla COP28. I dibattiti si terranno in lingua inglese co
 n traduzione simultanea\; seguirà l'incontro un cocktail di chiusura. Per 
 qualsiasi ulteriore informazione non esitate a contattarci a segreteria@we
 c-italia.org https://www.takethedate.it/Eventi/40656-transitioning-energy-
 in-the-mediterranean-output-from-wec-med-cross-regional-collaboration-init
 iative-and-omec-mediterranean-energy-perspectives.html
DTSTART:20240212T130000Z
DTEND:20240312T163000Z
LOCATION:Associazione Civita (Piazza Venezia 11\, Roma)
SUMMARY:Transitioning Energy in the Mediterranean. Output from WEC Med cros
 s-regional collaboration initiative and OMEC Mediterranean Energy Perspect
 ives
URL:https://www.takethedate.it/Eventi/40656-transitioning-energy-in-the-med
 iterranean-output-from-wec-med-cross-regional-collaboration-initiative-and
 -omec-mediterranean-energy-perspectives.html
END:VEVENT
END:VCALENDAR
