BEGIN:VCALENDAR
VERSION:2.0
PRODID:-//https://www.takethedate.it///NONSGML kigkonsult.se iCalcreator 2.10.15//
METHOD:PUBLISH
BEGIN:VEVENT
UID:20260424T172937CEST-55052WuIi3@https://www.takethedate.it/
DTSTAMP:20260424T152937Z
DESCRIPTION:Dal 20 al 26 novembre torna\, per la sua quarta edizione\, la G
 reen Week organizzata da Acqua dell’Elba Società Benefit e da Fondazione A
 cqua dell’Elba\, realtà no-profit il cui obiettivo è quello di creare valo
 re per l'Isola d'Elba lanciando progetti e/o sostenendo realtà locali in 5
  specifiche aree: ambiente\, istruzione\, cultura\, sociale/sanità e arte.
 \nNel corso della Green Week presenteremo i risultati delle attività finor
 a svolte e di quelle in programma da parte di Acqua dell’Elba Società Bene
 fit e Fondazione Acqua dell’Elba e\, soprattutto\, terremo eventi\, worksh
 op e iniziative che metteranno al centro la cura del territorio e delle pe
 rsone\, con un'attenzione particolare per le generazioni future.\nDi segui
 to il programma:\n21 novembre\, ore 11.00 - 12.00 - Sede di Acqua dell'Elb
 a\, Località Val di Cappone\, Marciana Marina\nPresentazione dei risultati
  dei progetti 2022-2023 di Fondazione Acqua dell’Elba. \n21 novembre\, ore
  12.00 - 13.00 - Sede di Acqua dell'Elba\, Località Val di Cappone\, Marci
 ana Marina\nWorkshop “L’educazione finanziaria” dedicato ai collaboratori 
 e alle collaboratrici di Acqua dell’Elba. Il workshop si inserisce nel con
 testo delle attività di sensibilizzazione su tematiche d’attualità portate
  avanti ogni anno da Acqua dell’Elba Società Benefit e si propone di forni
 re strumenti per una corretta gestione del denaro e del risparmio.\nIl sem
 inario è organizzato in collaborazione con Feduf\, Fondazione per l’Educaz
 ione Finanziaria e al Risparmio\, costituita su iniziativa di Associazione
  Bancaria Italiana\, con la quale la Fondazione Acqua dell’Elba ha sottosc
 ritto uno specifico accordo di collaborazione per il 2024.  \n21 novembre\
 , ore 15.00 - 16.30 - Sede di Acqua dell'Elba\, Località Val di Cappone\, 
 Marciana Marina\nEvento “Rispondere alla Crisi Climatica”. L’evento è orga
 nizzato in partnership con Kyoto Club\, organizzazione non profit creata n
 el febbraio del 1999\, costituita da imprese\, enti\, associazioni e ammin
 istrazioni locali\, impegnati nel raggiungimento degli obiettivi di riduzi
 one delle emissioni di gas-serra assunti con il Protocollo di Kyoto\, con 
 l’Accordo di Parigi e con il Green Deal europeo. Per l’occasione verrà pre
 sentata alla stampa l’associazione di Acqua dell’Elba Società Benefit all’
 organizzazione\, con la quale condivide valori e obiettivi.   \n22 novembr
 e\, ore 9.00 - 10.30 e ore 11.00 - 12.30 -  ITCG Cerboni\, Portoferraio | 
 ISIS Foresi\, Portoferraio\nPresentazione e avvio del “Progetto Istruzione
  2023-24” della Fondazione Acqua dell’Elba. Il progetto consta di due part
 i: la donazione di un totale di 100 libri all’anno\, a loro scelta\, agli 
 istituti d’istruzione superiore dell’Isola d’Elba e l’avvio di un project 
 work che coinvolga attivamente gli studenti delle due scuole per l’intero 
 anno scolastico.\nIl project work verte ogni anno su tematiche diverse e p
 er l’AS 2023-24 il tema prescelto è quello dell’Educazione Finanziaria\, c
 on particolare attenzione alla gestione del risparmio e alle nuove forme d
 i pagamento digitale. È organizzato in collaborazione con Feduf e prevede 
 l’erogazione di una formazione specifica agli studenti e alle studentesse 
 nel corso delle ore di Educazione Civica\, unitamente alla presentazione d
 i un lavoro finale di gruppo. L’obiettivo della formazione di quest’anno è
  quello di sensibilizzare e formare\, con un linguaggio semplice\, su un t
 ema di estrema attualità\, sul quale scarseggia l’offerta formativa e che 
 è di cruciale importanza in periodi di turbolenza economica come quelli ch
 e stiamo attraversando.  \n23 novembre\, ore 11.30 - 13.00 - Centro Cultur
 ale de Laugier\, Portoferraio\nPresentazione in anteprima del libro “Front
 emare - Storie comuni e straordinarie dai porti di Toscana” di Massimo Can
 ino. Il libro\, che verrà ufficialmente presentato il 28 novembre presso i
 l Senato della Repubblica\, è il frutto dello straordinario viaggio in bar
 ca a vela fatto da Massimo Canino nel corso dell’estate 2023 con il suo pr
 ogetto “Lungo la Toscana e il suo Arcipelago”.\nUn progetto supportato e p
 artecipato attivamente anche dalla Fondazione Acqua dell’Elba tramite il s
 uo Festival SEIF - Sea Essence International Festival.\n24 novembre\, ore 
 9.00 - 18.00\nVenerdì 24 novembre la Green Week si sposterà dall’Isola del
 l’Elba a Venezia\, dove Fondazione Acqua dell’Elba prenderà parte al Blue 
 Friday\, l'evento organizzato dalla Commissione Oceanografica Intergoverna
 tiva (IOC) dell’UNESCO nell’ambito del Decennio delle Scienze del Mare per
  lo Sviluppo Sostenibile delle Nazioni Unite (2021-2030) “per trasformare 
 il venerdì più nero dell’anno in un’occasione per salvaguardare e rigenera
 re il nostro Mar Mediterraneo”.\nL’iniziativa si svolgerà per il secondo a
 nno consecutivo a Venezia e sarà l’occasione per presentare progetti\, pro
 muovere iniziative culturali dedicate alla salvaguardia del mare e al ripr
 istino della sua biodiversità. https://www.takethedate.it/Eventi/39675-gre
 en-week-acqua-dellelba.html
DTSTART:20231120T100000Z
DTEND:20231126T180000Z
LOCATION: ()
SUMMARY:Green Week Acqua dell'Elba
URL:https://www.takethedate.it/Eventi/39675-green-week-acqua-dellelba.html
END:VEVENT
END:VCALENDAR
