BEGIN:VCALENDAR
VERSION:2.0
PRODID:-//https://www.takethedate.it///NONSGML kigkonsult.se iCalcreator 2.10.15//
METHOD:PUBLISH
BEGIN:VEVENT
UID:20260421T090310CEST-1931XL1eK1@https://www.takethedate.it/
DTSTAMP:20260421T070310Z
DESCRIPTION:Milano - Palazzo Pirelli Belvedere Enzo Jannacci\nIl recupero d
 i materia è uno dei pilastri del processo verso un’economia sostenibile e 
 verso la transizione ecologica. Il Convegno si pone l’obiettivo di analizz
 are il contesto produttivo del settore\, non solo per comprendere quali si
 ano gli strumenti e le azioni già in atto per incentivare l’utilizzo della
  materia prima secondaria ma anche per esaminare le prospettive future e q
 uali possano essere gli interventi che\, in sinergia\, politica e imprese 
 devono introdurre per consentire la conclusione del processo di trasformaz
 ione “green” della nostra economia e della società e raggiungere gli obiet
 tivi di sostenibilità ambientale che sono\, ormai\, la priorità di tutti i
  paesi industrializzati.\nEvento in diretta streaming https://mediaportal.
 regione.lombardia.it/embed/live/13630 https://www.takethedate.it/Eventi/34
 776-la-materia-circolare-risultati-e-prospettive-del-recupero-in-lombardia
 .html
DTSTART:20221125T090000Z
DTEND:20221125T120000Z
LOCATION:ibrido (#)
SUMMARY:La 'materia circolare': risultati e prospettive del recupero in Lom
 bardia
URL:https://www.takethedate.it/Eventi/34776-la-materia-circolare-risultati-
 e-prospettive-del-recupero-in-lombardia.html
END:VEVENT
END:VCALENDAR
