BEGIN:VCALENDAR
VERSION:2.0
PRODID:-//https://www.takethedate.it///NONSGML kigkonsult.se iCalcreator 2.10.15//
METHOD:PUBLISH
BEGIN:VEVENT
UID:20260419T163916CEST-93134PTd7B@https://www.takethedate.it/
DTSTAMP:20260419T143916Z
DESCRIPTION:This edition of FSR Talk will discuss how energy communities ca
 n contribute to the energy transition in Europe and beyond.\nIn the contex
 t of the Russian invasion of Ukraine\, Europe must radically transform its
  energy system to ensure a reliable and affordable energy supply to its ci
 tizens and firms.\nCan energy communities be part of the toolbox that Euro
 pe and other parts of the world rely upon to accelerate the decarbonizatio
 n of the energy system and shield consumers from extraordinarily high and 
 volatile prices?\nFalling renewable energy costs and digitalization of ene
 rgy make it possible. However\, is technological progress enough? Are hous
 eholds and firms concretely interested in joining collective action? Can v
 iable business models be built around the notion of community energy? What
  is the role of public policies and regulation?\nFSR faculty members Jean-
 Michel Glachant\, Nicolò Rossetto and Swetha Ravi Kumar will discuss these
  issues with Sabine Lӧbbe\, Fereidoon Sioshansi and David Robinson. These 
 scholars recently edited a new book\, “Energy Communities: Customer-Centre
 d\, Market-Driven\, Welfare-Enhancing?”\, which collects many relevant con
 tributions on the matter from Europe\, America and Australia. The Talk wil
 l be an opportunity to hear the main insights they got while producing the
  book and discuss the implications of the current energy crisis.\nAgenda:
 \n\nIntroduction and initial speech by the guest speakers: Jean-Michel Gla
 chant (5’)\, Sabine Lӧbbe\, Fereidoon Sioshansi\, David Robinson (20’)\nDi
 scussion with Nicolò Rossetto and Swetha Ravi Kumar (15’)\nQ&A with the au
 dience (20’)\n\nHost: \nJean-Michel Glachant | FSR\nGuests: \nSabine Lӧbbe
  | Reutlingen University\nFereidoon Sioshansi | Menlo Energy Economics\nDa
 vid Robinson | Oxford Institute for Energy Studies\nDiscussants: \nNicolò 
 Rossetto | FSR\nSwetha Ravi Kumar | FSR\nCheck out these relevant resource
 s: \nTopic of the Month: Citizens taking the lead: what can consumers do t
 o protect themselves from high energy prices?\nTechnical Report:  The futu
 re of renewable energy communities in the EU : an investigation at the tim
 e of the Clean Energy Package\nOnline Debate: Communities Dealing with Ren
 ewable Energy\n\nFSR Insights: Peer-to-peer energy: what is it? And is it 
 legal?\n https://www.takethedate.it/Eventi/34236-can-energy-communities-co
 ntribute-to-the-transition-and-solving-the-energy-crisis.html
DTSTART:20221019T120000Z
DTEND:20221019T130000Z
LOCATION:evento online  ()
SUMMARY:Can Energy Communities Contribute to the Transition and Solving the
  Energy Crisis?
URL:https://www.takethedate.it/Eventi/34236-can-energy-communities-contribu
 te-to-the-transition-and-solving-the-energy-crisis.html
END:VEVENT
END:VCALENDAR
