BEGIN:VCALENDAR
VERSION:2.0
PRODID:-//https://www.takethedate.it///NONSGML kigkonsult.se iCalcreator 2.10.15//
METHOD:PUBLISH
BEGIN:VEVENT
UID:20260423T115031CEST-2596gNxGPC@https://www.takethedate.it/
DTSTAMP:20260423T095031Z
DESCRIPTION:Il 6 settembre 2022 sarà presentato a Milano il Nono Report “In
 vestitori istituzionali italiani: iscritti\, risorse e gestori” per l’anno
  2021\, curato dal Centro Studi e Ricerche Itinerari Previdenziali.\nLa pu
 bblicazione offre una mappatura degli investitori istituzionali italiani\,
  indagando questi operatori sotto diversi aspetti (numerosità\, attivi e p
 ensionati\, dimensione patrimoniale ecc.)\, dando uno sguardo pragmatico e
  ordinato ad informazioni non disponibili in forma aggregata.\nL’evento si
  terrà a Palazzo Mezzanotte\, alle ore 10.00\, e sarà presieduto dai compo
 nenti del Centro Studi\, che illustreranno i punti salienti della ricerca.
  Il convegno rimarrà aperto fino ad esaurimento posti\, ma sarà necessario
 iscriversi. https://www.takethedate.it/Eventi/33346-investitori-istituzion
 ali-italiani-iscritti-risorse-e-gestori.html
DTSTART:20220906T080000Z
DTEND:20220906T103000Z
LOCATION:Palazzo Mezzanotte (Piazza degli Affari\,  Milano)
SUMMARY:Investitori istituzionali italiani: iscritti\, risorse e gestori
URL:https://www.takethedate.it/Eventi/33346-investitori-istituzionali-itali
 ani-iscritti-risorse-e-gestori.html
END:VEVENT
END:VCALENDAR
