BEGIN:VCALENDAR
VERSION:2.0
PRODID:-//https://www.takethedate.it///NONSGML kigkonsult.se iCalcreator 2.10.15//
METHOD:PUBLISH
BEGIN:VEVENT
UID:20260423T153535CEST-4821A8aXAa@https://www.takethedate.it/
DTSTAMP:20260423T133535Z
DESCRIPTION:Nell’ambito del progetto Interreg Italia-Svizzera Minplus\, mar
 tedì 19 luglio alle ore 10 si terrà il webinar “Narrazioni alternative e m
 igrazioni\, tra Italia e Svizzera”. A partire dal capitolo “Accoglienza di
 ffusa\, Terzo settore e narrazioni alternative” del Quinto Rapporto sul se
 condo welfare\, alcuni attori del Terzo Settore impegnati nel campo dell’a
 ccoglienza in Italia e Svizzera si confronteranno sul tema delle narrazion
 i.\nL’evento è promosso dal nostro Laboratorio in collaborazione con Filos
  Formazione\, Inmigrazione e Ecap Consulenze. Sono stati invitati a partec
 ipare Caritas Ticino\, Rete Italiana Cultura Popolare\, la cooperativa Pan
 dora\, l’associazione Geos e l’Unione Nazionale Italiana per i Rifugiati e
 d Esuli.\nL’evento sarà trasmesso in diretta streaming su Zoom e Facebook.
  Saranno presto disponibili il programma e ulteriori informazioni per il c
 ollegamento. https://www.takethedate.it/Eventi/33034-narrazioni-alternativ
 e-e-migrazioni-tra-italia-e-svizzera.html
DTSTART:20220719T080000Z
DTEND:20220719T100000Z
LOCATION:evento online  ()
SUMMARY:Narrazioni alternative e migrazioni\, tra Italia e Svizzera
URL:https://www.takethedate.it/Eventi/33034-narrazioni-alternative-e-migraz
 ioni-tra-italia-e-svizzera.html
END:VEVENT
END:VCALENDAR
