BEGIN:VCALENDAR
VERSION:2.0
PRODID:-//https://www.takethedate.it///NONSGML kigkonsult.se iCalcreator 2.10.15//
METHOD:PUBLISH
BEGIN:VEVENT
UID:20260422T122239CEST-8774uXFhWn@https://www.takethedate.it/
DTSTAMP:20260422T102239Z
DESCRIPTION:Lunedì 24 gennaio 2022 il Commissario europeo per l’Economia Pa
 olo Gentiloni interverrà all’Inaugurazione dell’Anno Accademico 2021/2022 
 presso la sede di Roma dell’Università Cattolica del Sacro Cuore\, che avr
 à luogo\, con inizio alle ore 10.30\, nell’Auditorium dell’Ateneo (largo F
 . Vito\, 1).\nLa cerimonia inaugurale sarà preceduta\, alle ore 9.00\, dal
 la celebrazione della Santa Messa\, presieduta dal Cardinale Giovanni Batt
 ista Re\, Decano del Collegio Cardinalizio\, presso la Chiesa Centrale del
 la Sede.\nAlle ore 10.30\, nell’Auditorium\, il Rettore dell’Università Ca
 ttolica Franco Anelli pronuncerà il discorso inaugurale. Seguirà la relazi
 one del Preside della Facoltà di Medicina e chirurgia Rocco Bellantone.\n
 \nLe prolusioni sono affidate ai professori Stanislao Rizzo\, ordinario di
  Malattie dell’apparato visivo (“Artificial Vision: dream or reality?”) e 
 Franco Locatelli\, ordinario di Pediatria (“Terapia genica e genome editin
 g nelle emoglobinopatie: modelli di medicina di precisione”).\nL’evento sa
 rà trasmesso in diretta streaming al seguente link: https://roma.unicatt.i
 t e sui canali social @unicatt.\n https://www.takethedate.it/Eventi/30186-
 cerimonia-di-inaugurazione-dellanno-accademico-2021-2022-universita-cattol
 ica-del-sacro-cuore.html
DTSTART:20220124T093000Z
DTEND:20220124T113000Z
LOCATION: ()
SUMMARY:Cerimonia di inaugurazione dell’Anno Accademico 2021/2022 Universit
 à Cattolica del Sacro Cuore
URL:https://www.takethedate.it/Eventi/30186-cerimonia-di-inaugurazione-dell
 anno-accademico-2021-2022-universita-cattolica-del-sacro-cuore.html
END:VEVENT
END:VCALENDAR
