BEGIN:VCALENDAR
VERSION:2.0
PRODID:-//https://www.takethedate.it///NONSGML kigkonsult.se iCalcreator 2.10.15//
METHOD:PUBLISH
BEGIN:VEVENT
UID:20260421T182659CEST-8023KHWG5V@https://www.takethedate.it/
DTSTAMP:20260421T162659Z
DESCRIPTION:Il corso illustrerà le principali tecniche di brand journalism 
 & storytelling.\n \nIl giornalismo tradizionale ha come scopo quello di in
 formare i cittadini e lo fa attraverso la descrizione oggettiva dei fatti.
  \n \nAl contrario\, il content strategist è una figura professionale nuov
 a che mette a disposizione il suo know how di giornalista per promuovere e
  raccontare un brand e la sua storia.\n \nCiò comporta un nuovo modo di fa
 re marketing e lo storytelling è la capacità di attrarre la domanda attrav
 erso le emozioni e i bisogni individuali dei consumatori. https://www.take
 thedate.it/Eventi/29680-brand-journalism.html
DTSTART:20211209T140000Z
DTEND:20211209T170000Z
LOCATION:evento online  ()
SUMMARY:Brand Journalism
URL:https://www.takethedate.it/Eventi/29680-brand-journalism.html
END:VEVENT
END:VCALENDAR
