BEGIN:VCALENDAR
VERSION:2.0
PRODID:-//https://www.takethedate.it///NONSGML kigkonsult.se iCalcreator 2.10.15//
METHOD:PUBLISH
BEGIN:VEVENT
UID:20260423T025111CEST-8515xA0USs@https://www.takethedate.it/
DTSTAMP:20260423T005111Z
DESCRIPTION:Proseguono i seminari territoriali di “Rural Social ACT”\, il p
 rogetto di cui Cia-Agricoltori Italiani è capofila\, che scommette sull’ag
 ricoltura sociale per combattere il fenomeno del caporalato e delle agroma
 fie e promuovere nuovi processi di inclusione e re-inserimento socio-lavor
 ativo dei migranti\, attraverso la creazione di una rete nazionale di coll
 aborazioni multisettoriali e integrate tra mondo agricolo\, servizi socios
 anitari\, settore della formazione e dell’accoglienza.\nIl terzo seminario
  si terrà nel Lazio\, a Roma presso l’Auditorium Giuseppe Avolio di Cia\, 
 in via Mariano Fortuny\, mercoledì primo dicembre\, alle ore 10.\nSi può p
 artecipare sia in presenza che online a questo link: https://www.youtube.c
 om/watch?v=PH0-WsNgkNk\n  https://www.takethedate.it/Eventi/29627-caporala
 to-violazione-dei-diritti-umani-fondamentali-e-concorrenza-sleale-nel-sett
 ore-agroalimentare-italiano-e-le-alternative-possibili.html
DTSTART:20211201T090000Z
DTEND:20211201T110000Z
LOCATION:evento online  ()
SUMMARY:Caporalato\, violazione dei diritti umani fondamentali e concorrenz
 a sleale nel settore agroalimentare italiano e le alternative possibili
URL:https://www.takethedate.it/Eventi/29627-caporalato-violazione-dei-dirit
 ti-umani-fondamentali-e-concorrenza-sleale-nel-settore-agroalimentare-ital
 iano-e-le-alternative-possibili.html
END:VEVENT
END:VCALENDAR
