BEGIN:VCALENDAR
VERSION:2.0
PRODID:-//https://www.takethedate.it///NONSGML kigkonsult.se iCalcreator 2.10.15//
METHOD:PUBLISH
BEGIN:VEVENT
UID:20260421T081445CEST-8545ucCJRm@https://www.takethedate.it/
DTSTAMP:20260421T061445Z
DESCRIPTION:Venerdì 5 marzo dalle ore 10 alle ore 13 si svolgerà online il 
 seminario di presentazione del volume Progetto Sismi-DTC Lazio. Conoscenze
  e innovazioni per la ricostruzione e il miglioramento sismico dei centri 
 storici del Lazio .Il libro\, curato dall’Arch. Lucina Caravaggi e pubblic
 ato da QUODLIBET STUDIO\, raccoglie una sintesi dei prodotti di ricerca el
 aborati all’interno del progetto SISMI\, promosso dalla regione Lazio all’
 interno del Centro di Eccellenza  DTC Lazio.Accompagnerà la presentazione 
 del libro un seminario online (su piattaforma Google MEET) che vedrà  inte
 rventi da parte di Tecnici della Ricostruzione.\nPer registrarti clicca QU
 I.\nPer accedere alla conferenza: https://meet.google.com/nyj-ykiw-gxq\nPR
 OGRAMMA\nORE 10\,00 SALUTI ISTITUZIONALI\n\nMaria Sabrina Sarto\, Prorettr
 ice alla Ricerca in Sapienza Università di Roma e Presidente del Centro di
  Eccellenza DTC Lazio\nClaudio Di Berardino Assessore Lavoro e nuovi dirit
 ti\, Formazione\, Scuola e diritto allo studio universitario\, Politiche p
 er la ricostruzione\nPaolo Orneli Assessore allo Sviluppo Economico\, Comm
 ercio e Artigianato\, Ricerca\, Start-Up e Innovazione \nGabriele Scarasci
 a Mugnozza - Presidente della Commissione Grandi Rischi e Direttore CERI (
 Centro di Ricerca\, Previsione\, Prevenzione e Controllo dei Richi Geologi
 ci)\, Sapienza Università di Roma\nNicola Tasco Presidente Lazio Innova\n
 \nORE 10\,30 INTRODUCE\nLucina Caravaggi - Coordinatrice Progetto SISMI\, 
 Sapienza Università di Roma\nORE 10\,45 INTERVENGONO\n\nLuigi Callisto - S
 apienza Università di Roma\nGerardo De Canio – Enea \nGianmarco De Felice 
 - Università degli studi Roma Tre \nAchille Paolone - Sapienza Università 
 di Roma\nHeleni Porfyriou - ICVBC - CNR\nMaria Laura Santarelli - Sapienza
  Università di Roma\n\nORE 12\,00  DIBATTITO\n\nMauro Dolce - Consulente s
 cientifico del Capo Dipartimento Protezione Civile\nFabrizio Curcio - Capo
  dipartimento Casa Italia\nWanda D'Ercole - Direttore USR Lazio\nGiovanni 
 Legnini - Commissario straordinario per la ricostruzione \nMaurizio Tarqui
 ni - Direttore Generale Unindustria\nGiuseppe Sappa - Presidente del Consi
 glio d'Area Di Ingegneria per l'Edilizia ed il Territorio e di Ingegneria 
 per l'Edilizia Sostenibile e l'Ambiente - Polo Didattico di Rieti. Diretto
 re Master AVRIS\, Sapienza Università di Roma\n https://www.takethedate.it
 /Eventi/25094-progetto-sismi-dtc-lazio-conoscenze-e-innovazioni-per-la-ric
 ostruzione-e-il-miglioramento-sismico-dei-centri-storici-del-lazio.html
DTSTART:20210305T090000Z
DTEND:20210305T120000Z
LOCATION:evento online  ()
SUMMARY:Progetto Sismi-DTC Lazio. Conoscenze e innovazioni per la ricostruz
 ione e il miglioramento sismico dei centri storici del Lazio
URL:https://www.takethedate.it/Eventi/25094-progetto-sismi-dtc-lazio-conosc
 enze-e-innovazioni-per-la-ricostruzione-e-il-miglioramento-sismico-dei-cen
 tri-storici-del-lazio.html
END:VEVENT
END:VCALENDAR
