BEGIN:VCALENDAR
VERSION:2.0
PRODID:-//https://www.takethedate.it///NONSGML kigkonsult.se iCalcreator 2.10.15//
METHOD:PUBLISH
BEGIN:VEVENT
UID:20260423T103814CEST-6054Mn8xBU@https://www.takethedate.it/
DTSTAMP:20260423T083814Z
DESCRIPTION:\n\n\nSi tratta della seconda edizione del libro nell’ambito de
 lle attività del focus sull’Economia circolare\, inaugurato nel 2019\, e c
 he vede la partecipazione di esperti\, aziende della filiera\, istituzioni
  e stakeholders.Tra i temi trattati nel libro e che saranno oggetto di dib
 attito\, il ruolo dell’economia circolare in Italia\, il Green Deal europe
 o\, l’opportunità rappresentata dal Recovery Fund.\nLa presentazione sarà 
 online\, e sarà possibile seguire l’iniziativa collegandosi a www.startmag
 .it\, sulla pagina Facebook (facebook.com/startmagnews) o sul canale Youtu
 be (youtube.com/startmagnews) di Start Magazine.\nIntervengono:Raffaele Ca
 ttaneo\, Assessore all'Ambiente e Clima Regione LombardiaGiordano Colarull
 o\, Direttore Generale UtilitaliaGiovanni De Feo\, Docente Università di S
 alerno e ideatore di GreenopoliVannia Gava\, Componente Commissione Bilanc
 io della Camera dei Deputati Mauro Libé\, Direzione Relazioni Istituzional
 i SNAMMarco Patuano\, Presidente di A2aAlberto Pierobon\, Assessore all'En
 ergia e Servizi pubblica utilità Regione Sicilia Alessia Rotta\, President
 e della Commissione Ambiente della Camera dei Deputati Alessandra Todde\, 
 Sottosegretario Ministero dello Sviluppo economicoDott. Simone Togni\, Pre
 sidente ANEVIng. Paolo Tomasi\, Presidente CONOUMario Turco\, Sottosegreta
 rio alla Presidenza del Consiglio dei Ministri\nModera: Michele Guerriero\
 , Direttore editoriale di www.startmag.it Start Magazine\n\n\n https://www
 .takethedate.it/Eventi/23289-presentazione-del-libro-economia-circolare-mo
 tore-dello-sviluppo-economico.html
DTSTART:20201125T140000Z
DTEND:20201125T163000Z
LOCATION:evento online  ()
SUMMARY:Presentazione del Libro: 'Economia Circolare Motore dello sviluppo 
 economico'
URL:https://www.takethedate.it/Eventi/23289-presentazione-del-libro-economi
 a-circolare-motore-dello-sviluppo-economico.html
END:VEVENT
END:VCALENDAR
