BEGIN:VCALENDAR
VERSION:2.0
PRODID:-//https://www.takethedate.it///NONSGML kigkonsult.se iCalcreator 2.10.15//
METHOD:PUBLISH
BEGIN:VEVENT
UID:20260419T171833CEST-00483awwRi@https://www.takethedate.it/
DTSTAMP:20260419T151833Z
DESCRIPTION:Si terrà venerdì 11 settembre\, alle 10\, in Roma\, nel cortile
  d’onore della sede di Piazza Mastai 12\, la presentazione del Libro Blu 2
 019 dell’Agenzia. Il Libro Blu 2019 contiene i risultati conseguiti lo sco
 rso anno da ADM nei suoi vari ambiti di competenza.\nCon l’occasione saran
 no illustrate le più significative attività svolte ed iniziative intrapres
 e sul territorio nei settori delle Accise\, delle Dogane e dei Monopoli.\n
 La cerimonia si aprirà con l’intervento del presidente del Senato della Re
 pubblica\, Maria Elisabetta Alberti Casellati\, al quale seguiranno i salu
 ti istituzionali del presidente del Consiglio dei Ministri Giuseppe Conte\
 , e si concluderà con le considerazioni del Ministro dell’Economia e delle
  Finanze Roberto Gualtieri. https://www.takethedate.it/Eventi/21571-presen
 tazione-del-libro-blu-2019.html
DTSTART:20200911T080000Z
DTEND:20200911T110000Z
LOCATION: ()
SUMMARY:Presentazione del Libro Blu 2019
URL:https://www.takethedate.it/Eventi/21571-presentazione-del-libro-blu-201
 9.html
END:VEVENT
END:VCALENDAR
