BEGIN:VCALENDAR
VERSION:2.0
PRODID:-//https://www.takethedate.it///NONSGML kigkonsult.se iCalcreator 2.10.15//
METHOD:PUBLISH
BEGIN:VEVENT
UID:20260422T212822CEST-9541RZVwua@https://www.takethedate.it/
DTSTAMP:20260422T192822Z
DESCRIPTION:In data 27 luglio 2020 sono state pubblicate sul sito dell’INAI
 L le linee di indirizzo per il sistema di gestione della salute e sicurezz
 a dei lavoratori per le aziende dei servizi idrici\, ambientali\, energeti
 ci e funerari. Si tratta delle prime linee di indirizzo realizzate in conf
 ormità della norma internazionale UNI ISO 45001:2018. Il seminario intende
  approfondire le ricadute gestionali e giuridiche dell’applicazione da par
 te delle aziende associate ad Utilitalia delle linee di Indirizzo SGSL- U.
  Il documento è stato emanato in attuazione del Protocollo d’intesa INAIL/
 Utilitalia\, sottoscritto dalle parti il 13 marzo 2018\, finalizzato allo 
 sviluppo della cultura della sicurezza sul lavoro e di attività e progetti
  volti alla riduzione sistematica degli infortuni e delle malattie profess
 ionali nei settori rappresentati da Utilitalia. https://www.takethedate.it
 /Eventi/21465-linee-di-indirizzo-sistema-di-gestione-della-salute-e-della-
 sicurezza-dei-lavoratori-per-le-aziende-dei-servizi-idrici-ambientali-ener
 getici-e-funerari.html
DTSTART:20200922T130000Z
DTEND:20200922T153000Z
LOCATION:evento online  ()
SUMMARY:Linee di indirizzo: Sistema di gestione della salute e della sicure
 zza dei lavoratori per le aziende dei servizi idrici\, ambientali\, energe
 tici e funerari
URL:https://www.takethedate.it/Eventi/21465-linee-di-indirizzo-sistema-di-g
 estione-della-salute-e-della-sicurezza-dei-lavoratori-per-le-aziende-dei-s
 ervizi-idrici-ambientali-energetici-e-funerari.html
END:VEVENT
END:VCALENDAR
