BEGIN:VCALENDAR
VERSION:2.0
PRODID:-//https://www.takethedate.it///NONSGML kigkonsult.se iCalcreator 2.10.15//
METHOD:PUBLISH
BEGIN:VEVENT
UID:20260422T120116CEST-2729KACFu3@https://www.takethedate.it/
DTSTAMP:20260422T100116Z
DESCRIPTION:In un periodo in cui la gestione dei dati sanitari avrebbe dovu
 to mostrare la sua forza\, abbiamo invece assistito a un sistema debole e 
 carente\, colmo di dati che non parlano tra loro\, che non consentono anal
 isi epidemiologiche chiare e non aiutano nemmeno con la gestione del pazie
 nte: il Fascicolo Sanitario Elettronico funge da mero contenitore virtuale
  di documenti sanitari e la Cartella Clinica Elettronica è ancora una chim
 era. \nUn gestione dei dati efficace potrebbe consentire di realizzare una
  mediciana davvero personalizzata\, tracciare la storia longitudinale del 
 paziente\, svolgere studi epidemiologici a livello locale e nazionale che 
 possono impattare sulla prevenzione delle cure.\nQuali sono gli ostacoli c
 he non permettono questa evoluzione del sistema dei dati sanitari?\nIntero
 perabilità dei sistemi\, questioni di privacy e GDPR\, sistemi nuovi che n
 on dialogano con quelli vecchi\, vendor lock-in\, sono solo alcuni dei nod
 i da sciogliere. Ma forse la soluzione è più facile di quello che ci immag
 iniamo.\nNe parliamo con:\nFabrizio Massimo Ferrara\, coordinatore scienti
 fico del Laboratorio sui sistemi informativi sanitari di ALTEMS\nEnrica Ma
 ssella Ducci Teri\, Responsabile Servizio Gestione Ecosistemi\, Area Trasf
 ormazione Digitale - AGID\nMauro Grigioni\, Responsabile Centro Nazionale 
 Tecnologie Innovative in Sanità Pubblica\, Istituto Superiore i Sanità\nMo
 dera Angelica Giambelluca https://www.takethedate.it/Eventi/21341-dati-san
 itari-come-si-possono-mettere-a-sistema-in-modo-efficace.html
DTSTART:20200908T133000Z
DTEND:20200908T140000Z
LOCATION:evento online  ()
SUMMARY: Dati sanitari: come si possono mettere a sistema in modo efficace?
URL:https://www.takethedate.it/Eventi/21341-dati-sanitari-come-si-possono-m
 ettere-a-sistema-in-modo-efficace.html
END:VEVENT
END:VCALENDAR
