BEGIN:VCALENDAR
VERSION:2.0
PRODID:-//https://www.takethedate.it///NONSGML kigkonsult.se iCalcreator 2.10.15//
METHOD:PUBLISH
BEGIN:VEVENT
UID:20260421T193538CEST-0433NcFBVW@https://www.takethedate.it/
DTSTAMP:20260421T173538Z
DESCRIPTION: https://www.takethedate.it/Eventi/21052-lidrogeno-per-la-trans
 izione-energetica-la-strategia-delleuropa-e-le-opportunita-per-litalia.htm
 l
DTSTART:20200922T083000Z
DTEND:20200922T103000Z
LOCATION:evento online  ()
SUMMARY:L'idrogeno per la transizione energetica: la strategia dell'Europa 
 e le opportunità per l'Italia
URL:https://www.takethedate.it/Eventi/21052-lidrogeno-per-la-transizione-en
 ergetica-la-strategia-delleuropa-e-le-opportunita-per-litalia.html
END:VEVENT
END:VCALENDAR
